View In:
ArcGIS JavaScript
ArcGIS Online Map Viewer
ArcGIS Earth
Service Description: erdc_cooperriver_wetlandclass_2017
Name: erdc_cooperriver_wetlandclass_2017
Description:
Single Fused Map Cache: false
Extent:
XMin: 2313488.999999999
YMin: 393523.49999999587
XMax: 2351300.999999999
YMax: 451123.49999999587
Spatial Reference: 2273
(2273)
LatestVCSWkid(0)
Initial Extent:
XMin: 2313488.999999999
YMin: 393523.49999999587
XMax: 2351300.999999999
YMax: 451123.49999999587
Spatial Reference: 2273
(2273)
LatestVCSWkid(0)
Full Extent:
XMin: 2313488.999999999
YMin: 393523.49999999587
XMax: 2351300.999999999
YMax: 451123.49999999587
Spatial Reference: 2273
(2273)
LatestVCSWkid(0)
Pixel Size X: 6.0
Pixel Size Y: 6.0
Band Count: 1
Pixel Type: U4
RasterFunction Infos: {"rasterFunctionInfos": [{
"name": "None",
"description": "",
"help": ""
}]}
Mensuration Capabilities: Basic
Inspection Capabilities:
Has Histograms: true
Has Colormap: false
Has Multi Dimensions : false
Rendering Rule:
Min Scale: 0
Max Scale: 0
Resampling: false
Copyright Text:
Service Data Type: esriImageServiceDataTypeGeneric
Min Values: 1
Max Values: 12
Mean Values: 6.364590115261218
Standard Deviation Values: 3.345809120085199
Object ID Field:
Fields:
None
Default Mosaic Method: Center
Allowed Mosaic Methods:
SortField:
SortValue: null
Mosaic Operator: First
Default Compression Quality: 75
Default Resampling Method: Bilinear
Max Record Count: null
Max Image Height: 4100
Max Image Width: 15000
Max Download Image Count: null
Max Mosaic Image Count: null
Allow Raster Function: true
Allow Copy: true
Allow Analysis: true
Allow Compute TiePoints: false
Supports Statistics: false
Supports Advanced Queries: false
Use StandardizedQueries: true
Raster Type Infos:
Name: Raster Dataset
Description: Supports all ArcGIS Raster Datasets
Help:
Has Raster Attribute Table: true
Edit Fields Info: null
Ownership Based AccessControl For Rasters: null
Child Resources:
Info
Raster Attribute Table
Histograms
Statistics
Key Properties
Legend
Raster Function Infos
Supported Operations:
Export Image
Identify
Measure
Compute Histograms
Compute Statistics Histograms
Get Samples
Compute Class Statistics
Query Boundary
Compute Pixel Location
Compute Angles
Validate
Project