{
 "currentVersion": 11.3,
 "serviceDescription": "erdc_cooperriver_wetlandclass_2017",
 "name": "erdc_cooperriver_wetlandclass_2017",
 "description": "",
 "extent": {
  "xmin": 2313488.999999999,
  "ymin": 393523.49999999587,
  "xmax": 2351300.999999999,
  "ymax": 451123.49999999587,
  "spatialReference": {
   "wkid": 2273,
   "latestWkid": 2273
  }
 },
 "initialExtent": {
  "xmin": 2313488.999999999,
  "ymin": 393523.49999999587,
  "xmax": 2351300.999999999,
  "ymax": 451123.49999999587,
  "spatialReference": {
   "wkid": 2273,
   "latestWkid": 2273
  }
 },
 "fullExtent": {
  "xmin": 2313488.999999999,
  "ymin": 393523.49999999587,
  "xmax": 2351300.999999999,
  "ymax": 451123.49999999587,
  "spatialReference": {
   "wkid": 2273,
   "latestWkid": 2273
  }
 },
 "sortableFields": "",
 "bandCount": 1,
 "pixelType": "U4",
 "minValues": [
  1
 ],
 "maxValues": [
  12
 ],
 "meanValues": [
  6.364590115261218
 ],
 "stdvValues": [
  3.345809120085199
 ],
 "hasMultidimensions": false,
 "pixelSizeX": 6,
 "pixelSizeY": 6,
 "meanPixelSize": 1.8288000000000002,
 "datasetFormat": "GRID",
 "uncompressedSize": 30249600,
 "blockWidth": 256,
 "blockHeight": 16,
 "compressionType": "RLE",
 "bandNames": [
  "cooper2017"
 ],
 "allowCopy": true,
 "allowAnalysis": true,
 "itemAccess": false,
 "inspectionCapabilities": "",
 "noDataValue": 0,
 "noDataValues": [
  0
 ],
 "minPixelSize": 0,
 "maxPixelSize": 0,
 "copyrightText": "",
 "serviceDataType": "esriImageServiceDataTypeGeneric",
 "serviceSourceType": "esriImageServiceSourceTypeDataset",
 "objectIdField": "",
 "fields": [],
 "capabilities": "Mensuration,Image,Metadata",
 "defaultMosaicMethod": "Center",
 "allowedMosaicMethods": "",
 "sortField": "",
 "sortValue": null,
 "sortAscending": true,
 "mosaicOperator": "First",
 "defaultCompressionQuality": 75,
 "defaultResamplingMethod": "Bilinear",
 "maxImageHeight": 4100,
 "maxImageWidth": 15000,
 "allowRasterFunction": true,
 "rasterFunctionInfos": [
  {
   "name": "None",
   "description": "",
   "help": ""
  }
 ],
 "rasterTypeInfos": [
  {
   "name": "Raster Dataset",
   "description": "Supports all ArcGIS Raster Datasets",
   "help": ""
  }
 ],
 "mensurationCapabilities": "Basic",
 "hasHistograms": true,
 "hasColormap": false,
 "hasRasterAttributeTable": true,
 "minScale": 0,
 "maxScale": 0,
 "exportTilesAllowed": false,
 "supportsStatistics": false,
 "supportsAdvancedQueries": false,
 "editFieldsInfo": null,
 "ownershipBasedAccessControlForRasters": null,
 "allowComputeTiePoints": false,
 "useStandardizedQueries": true,
 "advancedQueryCapabilities": {
  "useStandardizedQueries": true,
  "supportsStatistics": false,
  "supportsOrderBy": false,
  "supportsDistinct": false,
  "supportsPagination": false
 },
 "spatialReference": {
  "wkid": 2273,
  "latestWkid": 2273
 },
 "resampling": false
}