View In:
ArcGIS JavaScript
ArcGIS Online Map Viewer
ArcGIS Earth
Service Description: erdc_cooperriver_wetlandclass_2013
Name: erdc_cooperriver_wetlandclass_2013
Description:
Single Fused Map Cache: false
Extent:
XMin: 2307527.000000015
YMin: 361304
XMax: 2353663.000000015
YMax: 479656
Spatial Reference: PROJCS["NAD_1983_Lambert_Conformal_Conic",GEOGCS["GCS_North_American_1983",DATUM["D_North_American_1983",SPHEROID["GRS_1980",6378137.0,298.257222101]],PRIMEM["Greenwich",0.0],UNIT["Degree",0.0174532925199433]],PROJECTION["Lambert_Conformal_Conic"],PARAMETER["False_Easting",2000000.0],PARAMETER["False_Northing",0.0],PARAMETER["Central_Meridian",-81.0],PARAMETER["Standard_Parallel_1",32.5],PARAMETER["Standard_Parallel_2",34.8333333333333],PARAMETER["Latitude_Of_Origin",31.8333333333333],UNIT["Foot",0.3048]]
Initial Extent:
XMin: 2307527.000000015
YMin: 361304
XMax: 2353663.000000015
YMax: 479656
Spatial Reference: PROJCS["NAD_1983_Lambert_Conformal_Conic",GEOGCS["GCS_North_American_1983",DATUM["D_North_American_1983",SPHEROID["GRS_1980",6378137.0,298.257222101]],PRIMEM["Greenwich",0.0],UNIT["Degree",0.0174532925199433]],PROJECTION["Lambert_Conformal_Conic"],PARAMETER["False_Easting",2000000.0],PARAMETER["False_Northing",0.0],PARAMETER["Central_Meridian",-81.0],PARAMETER["Standard_Parallel_1",32.5],PARAMETER["Standard_Parallel_2",34.8333333333333],PARAMETER["Latitude_Of_Origin",31.8333333333333],UNIT["Foot",0.3048]]
Full Extent:
XMin: 2307527.000000015
YMin: 361304
XMax: 2353663.000000015
YMax: 479656
Spatial Reference: PROJCS["NAD_1983_Lambert_Conformal_Conic",GEOGCS["GCS_North_American_1983",DATUM["D_North_American_1983",SPHEROID["GRS_1980",6378137.0,298.257222101]],PRIMEM["Greenwich",0.0],UNIT["Degree",0.0174532925199433]],PROJECTION["Lambert_Conformal_Conic"],PARAMETER["False_Easting",2000000.0],PARAMETER["False_Northing",0.0],PARAMETER["Central_Meridian",-81.0],PARAMETER["Standard_Parallel_1",32.5],PARAMETER["Standard_Parallel_2",34.8333333333333],PARAMETER["Latitude_Of_Origin",31.8333333333333],UNIT["Foot",0.3048]]
Pixel Size X: 8.0
Pixel Size Y: 8.0
Band Count: 1
Pixel Type: U4
RasterFunction Infos: {"rasterFunctionInfos": [{
"name": "None",
"description": "",
"help": ""
}]}
Mensuration Capabilities: Basic
Inspection Capabilities:
Has Histograms: true
Has Colormap: false
Has Multi Dimensions : false
Rendering Rule:
Min Scale: 0
Max Scale: 0
Resampling: false
Copyright Text:
Service Data Type: esriImageServiceDataTypeGeneric
Min Values: 1
Max Values: 14
Mean Values: 5.377020334479418
Standard Deviation Values: 5.08794316104705
Object ID Field:
Fields:
None
Default Mosaic Method: Center
Allowed Mosaic Methods:
SortField:
SortValue: null
Mosaic Operator: First
Default Compression Quality: 75
Default Resampling Method: Bilinear
Max Record Count: null
Max Image Height: 4100
Max Image Width: 15000
Max Download Image Count: null
Max Mosaic Image Count: null
Allow Raster Function: true
Allow Copy: true
Allow Analysis: true
Allow Compute TiePoints: false
Supports Statistics: false
Supports Advanced Queries: false
Use StandardizedQueries: true
Raster Type Infos:
Name: Raster Dataset
Description: Supports all ArcGIS Raster Datasets
Help:
Has Raster Attribute Table: true
Edit Fields Info: null
Ownership Based AccessControl For Rasters: null
Child Resources:
Info
Raster Attribute Table
Histograms
Statistics
Key Properties
Legend
Raster Function Infos
Supported Operations:
Export Image
Identify
Measure
Compute Histograms
Compute Statistics Histograms
Get Samples
Compute Class Statistics
Query Boundary
Compute Pixel Location
Compute Angles
Validate
Project