{
 "currentVersion": 11.3,
 "serviceDescription": "erdc_cooperriver_wetlandclass_2013",
 "name": "erdc_cooperriver_wetlandclass_2013",
 "description": "",
 "extent": {
  "xmin": 2307527.000000015,
  "ymin": 361304,
  "xmax": 2353663.000000015,
  "ymax": 479656,
  "spatialReference": {
   "wkt2": "PROJCRS[\"NAD_1983_Lambert_Conformal_Conic\",BASEGEOGCRS[\"GCS_North_American_1983\",DATUM[\"D_North_American_1983\",ELLIPSOID[\"GRS_1980\",6378137.0,298.257222101,LENGTHUNIT[\"Meter\",1.0]]],PRIMEM[\"Greenwich\",0.0,ANGLEUNIT[\"Degree\",0.0174532925199433]],CS[ellipsoidal,2],ANGLEUNIT[\"Degree\",0.0174532925199433]],CONVERSION[\"Lambert_Conformal_Conic\",METHOD[\"Lambert_Conformal_Conic\"],PARAMETER[\"False_Easting\",2000000.0,LENGTHUNIT[\"Foot\",0.3048]],PARAMETER[\"False_Northing\",0.0,LENGTHUNIT[\"Foot\",0.3048]],PARAMETER[\"Central_Meridian\",-81.0,ANGLEUNIT[\"Degree\",0.0174532925199433]],PARAMETER[\"Standard_Parallel_1\",32.5,ANGLEUNIT[\"Degree\",0.0174532925199433]],PARAMETER[\"Standard_Parallel_2\",34.8333333333333,ANGLEUNIT[\"Degree\",0.0174532925199433]],PARAMETER[\"Latitude_Of_Origin\",31.8333333333333,ANGLEUNIT[\"Degree\",0.0174532925199433]]],CS[Cartesian,2],AXIS[\"Easting (X)\",east,ORDER[1]],AXIS[\"Northing (Y)\",north,ORDER[2]],LENGTHUNIT[\"Foot\",0.3048]]",
   "wkt": "PROJCS[\"NAD_1983_Lambert_Conformal_Conic\",GEOGCS[\"GCS_North_American_1983\",DATUM[\"D_North_American_1983\",SPHEROID[\"GRS_1980\",6378137.0,298.257222101]],PRIMEM[\"Greenwich\",0.0],UNIT[\"Degree\",0.0174532925199433]],PROJECTION[\"Lambert_Conformal_Conic\"],PARAMETER[\"False_Easting\",2000000.0],PARAMETER[\"False_Northing\",0.0],PARAMETER[\"Central_Meridian\",-81.0],PARAMETER[\"Standard_Parallel_1\",32.5],PARAMETER[\"Standard_Parallel_2\",34.8333333333333],PARAMETER[\"Latitude_Of_Origin\",31.8333333333333],UNIT[\"Foot\",0.3048]]"
  }
 },
 "initialExtent": {
  "xmin": 2307527.000000015,
  "ymin": 361304,
  "xmax": 2353663.000000015,
  "ymax": 479656,
  "spatialReference": {
   "wkt2": "PROJCRS[\"NAD_1983_Lambert_Conformal_Conic\",BASEGEOGCRS[\"GCS_North_American_1983\",DATUM[\"D_North_American_1983\",ELLIPSOID[\"GRS_1980\",6378137.0,298.257222101,LENGTHUNIT[\"Meter\",1.0]]],PRIMEM[\"Greenwich\",0.0,ANGLEUNIT[\"Degree\",0.0174532925199433]],CS[ellipsoidal,2],ANGLEUNIT[\"Degree\",0.0174532925199433]],CONVERSION[\"Lambert_Conformal_Conic\",METHOD[\"Lambert_Conformal_Conic\"],PARAMETER[\"False_Easting\",2000000.0,LENGTHUNIT[\"Foot\",0.3048]],PARAMETER[\"False_Northing\",0.0,LENGTHUNIT[\"Foot\",0.3048]],PARAMETER[\"Central_Meridian\",-81.0,ANGLEUNIT[\"Degree\",0.0174532925199433]],PARAMETER[\"Standard_Parallel_1\",32.5,ANGLEUNIT[\"Degree\",0.0174532925199433]],PARAMETER[\"Standard_Parallel_2\",34.8333333333333,ANGLEUNIT[\"Degree\",0.0174532925199433]],PARAMETER[\"Latitude_Of_Origin\",31.8333333333333,ANGLEUNIT[\"Degree\",0.0174532925199433]]],CS[Cartesian,2],AXIS[\"Easting (X)\",east,ORDER[1]],AXIS[\"Northing (Y)\",north,ORDER[2]],LENGTHUNIT[\"Foot\",0.3048]]",
   "wkt": "PROJCS[\"NAD_1983_Lambert_Conformal_Conic\",GEOGCS[\"GCS_North_American_1983\",DATUM[\"D_North_American_1983\",SPHEROID[\"GRS_1980\",6378137.0,298.257222101]],PRIMEM[\"Greenwich\",0.0],UNIT[\"Degree\",0.0174532925199433]],PROJECTION[\"Lambert_Conformal_Conic\"],PARAMETER[\"False_Easting\",2000000.0],PARAMETER[\"False_Northing\",0.0],PARAMETER[\"Central_Meridian\",-81.0],PARAMETER[\"Standard_Parallel_1\",32.5],PARAMETER[\"Standard_Parallel_2\",34.8333333333333],PARAMETER[\"Latitude_Of_Origin\",31.8333333333333],UNIT[\"Foot\",0.3048]]"
  }
 },
 "fullExtent": {
  "xmin": 2307527.000000015,
  "ymin": 361304,
  "xmax": 2353663.000000015,
  "ymax": 479656,
  "spatialReference": {
   "wkt2": "PROJCRS[\"NAD_1983_Lambert_Conformal_Conic\",BASEGEOGCRS[\"GCS_North_American_1983\",DATUM[\"D_North_American_1983\",ELLIPSOID[\"GRS_1980\",6378137.0,298.257222101,LENGTHUNIT[\"Meter\",1.0]]],PRIMEM[\"Greenwich\",0.0,ANGLEUNIT[\"Degree\",0.0174532925199433]],CS[ellipsoidal,2],ANGLEUNIT[\"Degree\",0.0174532925199433]],CONVERSION[\"Lambert_Conformal_Conic\",METHOD[\"Lambert_Conformal_Conic\"],PARAMETER[\"False_Easting\",2000000.0,LENGTHUNIT[\"Foot\",0.3048]],PARAMETER[\"False_Northing\",0.0,LENGTHUNIT[\"Foot\",0.3048]],PARAMETER[\"Central_Meridian\",-81.0,ANGLEUNIT[\"Degree\",0.0174532925199433]],PARAMETER[\"Standard_Parallel_1\",32.5,ANGLEUNIT[\"Degree\",0.0174532925199433]],PARAMETER[\"Standard_Parallel_2\",34.8333333333333,ANGLEUNIT[\"Degree\",0.0174532925199433]],PARAMETER[\"Latitude_Of_Origin\",31.8333333333333,ANGLEUNIT[\"Degree\",0.0174532925199433]]],CS[Cartesian,2],AXIS[\"Easting (X)\",east,ORDER[1]],AXIS[\"Northing (Y)\",north,ORDER[2]],LENGTHUNIT[\"Foot\",0.3048]]",
   "wkt": "PROJCS[\"NAD_1983_Lambert_Conformal_Conic\",GEOGCS[\"GCS_North_American_1983\",DATUM[\"D_North_American_1983\",SPHEROID[\"GRS_1980\",6378137.0,298.257222101]],PRIMEM[\"Greenwich\",0.0],UNIT[\"Degree\",0.0174532925199433]],PROJECTION[\"Lambert_Conformal_Conic\"],PARAMETER[\"False_Easting\",2000000.0],PARAMETER[\"False_Northing\",0.0],PARAMETER[\"Central_Meridian\",-81.0],PARAMETER[\"Standard_Parallel_1\",32.5],PARAMETER[\"Standard_Parallel_2\",34.8333333333333],PARAMETER[\"Latitude_Of_Origin\",31.8333333333333],UNIT[\"Foot\",0.3048]]"
  }
 },
 "sortableFields": "",
 "bandCount": 1,
 "pixelType": "U4",
 "minValues": [
  1
 ],
 "maxValues": [
  14
 ],
 "meanValues": [
  5.377020334479418
 ],
 "stdvValues": [
  5.08794316104705
 ],
 "hasMultidimensions": false,
 "pixelSizeX": 8,
 "pixelSizeY": 8,
 "meanPixelSize": 2.4384,
 "datasetFormat": "GRID",
 "uncompressedSize": 42658499,
 "blockWidth": 256,
 "blockHeight": 16,
 "compressionType": "None",
 "bandNames": [
  "cooper2013"
 ],
 "allowCopy": true,
 "allowAnalysis": true,
 "itemAccess": false,
 "inspectionCapabilities": "",
 "noDataValue": 0,
 "noDataValues": [
  0
 ],
 "minPixelSize": 0,
 "maxPixelSize": 0,
 "copyrightText": "",
 "serviceDataType": "esriImageServiceDataTypeGeneric",
 "serviceSourceType": "esriImageServiceSourceTypeDataset",
 "objectIdField": "",
 "fields": [],
 "capabilities": "Mensuration,Image,Metadata",
 "defaultMosaicMethod": "Center",
 "allowedMosaicMethods": "",
 "sortField": "",
 "sortValue": null,
 "sortAscending": true,
 "mosaicOperator": "First",
 "defaultCompressionQuality": 75,
 "defaultResamplingMethod": "Bilinear",
 "maxImageHeight": 4100,
 "maxImageWidth": 15000,
 "allowRasterFunction": true,
 "rasterFunctionInfos": [
  {
   "name": "None",
   "description": "",
   "help": ""
  }
 ],
 "rasterTypeInfos": [
  {
   "name": "Raster Dataset",
   "description": "Supports all ArcGIS Raster Datasets",
   "help": ""
  }
 ],
 "mensurationCapabilities": "Basic",
 "hasHistograms": true,
 "hasColormap": false,
 "hasRasterAttributeTable": true,
 "minScale": 0,
 "maxScale": 0,
 "exportTilesAllowed": false,
 "supportsStatistics": false,
 "supportsAdvancedQueries": false,
 "editFieldsInfo": null,
 "ownershipBasedAccessControlForRasters": null,
 "allowComputeTiePoints": false,
 "useStandardizedQueries": true,
 "advancedQueryCapabilities": {
  "useStandardizedQueries": true,
  "supportsStatistics": false,
  "supportsOrderBy": false,
  "supportsDistinct": false,
  "supportsPagination": false
 },
 "spatialReference": {
  "wkt2": "PROJCRS[\"NAD_1983_Lambert_Conformal_Conic\",BASEGEOGCRS[\"GCS_North_American_1983\",DATUM[\"D_North_American_1983\",ELLIPSOID[\"GRS_1980\",6378137.0,298.257222101,LENGTHUNIT[\"Meter\",1.0]]],PRIMEM[\"Greenwich\",0.0,ANGLEUNIT[\"Degree\",0.0174532925199433]],CS[ellipsoidal,2],ANGLEUNIT[\"Degree\",0.0174532925199433]],CONVERSION[\"Lambert_Conformal_Conic\",METHOD[\"Lambert_Conformal_Conic\"],PARAMETER[\"False_Easting\",2000000.0,LENGTHUNIT[\"Foot\",0.3048]],PARAMETER[\"False_Northing\",0.0,LENGTHUNIT[\"Foot\",0.3048]],PARAMETER[\"Central_Meridian\",-81.0,ANGLEUNIT[\"Degree\",0.0174532925199433]],PARAMETER[\"Standard_Parallel_1\",32.5,ANGLEUNIT[\"Degree\",0.0174532925199433]],PARAMETER[\"Standard_Parallel_2\",34.8333333333333,ANGLEUNIT[\"Degree\",0.0174532925199433]],PARAMETER[\"Latitude_Of_Origin\",31.8333333333333,ANGLEUNIT[\"Degree\",0.0174532925199433]]],CS[Cartesian,2],AXIS[\"Easting (X)\",east,ORDER[1]],AXIS[\"Northing (Y)\",north,ORDER[2]],LENGTHUNIT[\"Foot\",0.3048]]",
  "wkt": "PROJCS[\"NAD_1983_Lambert_Conformal_Conic\",GEOGCS[\"GCS_North_American_1983\",DATUM[\"D_North_American_1983\",SPHEROID[\"GRS_1980\",6378137.0,298.257222101]],PRIMEM[\"Greenwich\",0.0],UNIT[\"Degree\",0.0174532925199433]],PROJECTION[\"Lambert_Conformal_Conic\"],PARAMETER[\"False_Easting\",2000000.0],PARAMETER[\"False_Northing\",0.0],PARAMETER[\"Central_Meridian\",-81.0],PARAMETER[\"Standard_Parallel_1\",32.5],PARAMETER[\"Standard_Parallel_2\",34.8333333333333],PARAMETER[\"Latitude_Of_Origin\",31.8333333333333],UNIT[\"Foot\",0.3048]]"
 },
 "resampling": false
}
