View In:
ArcGIS JavaScript
ArcGIS Online Map Viewer
ArcGIS Earth
Service Description: Price_Island_3D_v2_WEL
Name: Price_Island_3D_v2_WEL
Description:
Single Fused Map Cache: true
Tile Info:
- Height: 256
- Width: 256
- DPI: 96
-
Levels of Detail: 19
-
Level ID: 0
[ Start Tile, End Tile ]
- Resolution: 930768.002177061
- Scale: 1.0722468830017405E9
-
Level ID: 1
[ Start Tile, End Tile ]
- Resolution: 465384.0010885305
- Scale: 5.361234415008702E8
-
Level ID: 2
[ Start Tile, End Tile ]
- Resolution: 232692.00054426526
- Scale: 2.680617207504351E8
-
Level ID: 3
[ Start Tile, End Tile ]
- Resolution: 116346.00027213263
- Scale: 1.3403086037521756E8
-
Level ID: 4
[ Start Tile, End Tile ]
- Resolution: 58173.000136066315
- Scale: 6.701543018760878E7
-
Level ID: 5
[ Start Tile, End Tile ]
- Resolution: 29086.500068033158
- Scale: 3.350771509380439E7
-
Level ID: 6
[ Start Tile, End Tile ]
- Resolution: 14543.250034016579
- Scale: 1.6753857546902195E7
-
Level ID: 7
[ Start Tile, End Tile ]
- Resolution: 7271.625017008289
- Scale: 8376928.773451097
-
Level ID: 8
[ Start Tile, End Tile ]
- Resolution: 3635.8125085041447
- Scale: 4188464.3867255487
-
Level ID: 9
[ Start Tile, End Tile ]
- Resolution: 1817.9062542520724
- Scale: 2094232.1933627743
-
Level ID: 10
[ Start Tile, End Tile ]
- Resolution: 908.9531271260362
- Scale: 1047116.0966813872
-
Level ID: 11
[ Start Tile, End Tile ]
- Resolution: 454.4765635630181
- Scale: 523558.0483406936
-
Level ID: 12
[ Start Tile, End Tile ]
- Resolution: 227.23828178150904
- Scale: 261779.0241703468
-
Level ID: 13
[ Start Tile, End Tile ]
- Resolution: 113.61914089075452
- Scale: 130889.5120851734
-
Level ID: 14
[ Start Tile, End Tile ]
- Resolution: 56.80957044537726
- Scale: 65444.7560425867
-
Level ID: 15
[ Start Tile, End Tile ]
- Resolution: 28.40478522268863
- Scale: 32722.37802129335
-
Level ID: 16
[ Start Tile, End Tile ]
- Resolution: 14.202392611344315
- Scale: 16361.189010646674
-
Level ID: 17
[ Start Tile, End Tile ]
- Resolution: 7.101196305672158
- Scale: 8180.594505323337
-
Level ID: 18
[ Start Tile, End Tile ]
- Resolution: 3.550598152836079
- Scale: 4090.2972526616686
- Format: LERC
- Compression Quality: 0.0
- LERC Error: 0.05
- Origin: X: -1.1749788761199716E8
Y: 1.1874297398445907E8
- Spatial Reference: 103181
(6599)
LatestVCSWkid(0)
Storage Info:
- Storage Format: esriMapCacheStorageModeCompactV2
- Packet Size: 128
Extent:
XMin: 891846.2847444408
YMin: 346164.29887545033
XMax: 899234.2847444408
YMax: 355711.29887545033
Spatial Reference: 103181
(6599)
LatestVCSWkid(0)
Initial Extent:
XMin: 891846.2847444408
YMin: 346164.29887545033
XMax: 899234.2847444408
YMax: 355711.29887545033
Spatial Reference: 103181
(6599)
LatestVCSWkid(0)
Full Extent:
XMin: 891846.2847444408
YMin: 346164.29887545033
XMax: 899234.2847444408
YMax: 355711.29887545033
Spatial Reference: 103181
(6599)
LatestVCSWkid(0)
Pixel Size X: 1.0
Pixel Size Y: 1.0
Band Count: 1
Pixel Type: F32
RasterFunction Infos: {"rasterFunctionInfos": [{
"name": "None",
"description": "",
"help": ""
}]}
Mensuration Capabilities: Basic
Inspection Capabilities:
Has Histograms: true
Has Colormap: false
Has Multi Dimensions : false
Rendering Rule:
Min Scale: 1.0722468830017405E9
Max Scale: 4090.2972526616686
Min LOD: 0
Max LOD: 18
Copyright Text:
Service Data Type: esriImageServiceDataTypeGeneric
Min Values: -105.60672760009766
Max Values: 24.954837799072266
Mean Values: -25.478544358031634
Standard Deviation Values: 30.096127079962177
Object ID Field:
Fields:
None
Default Mosaic Method: Center
Allowed Mosaic Methods:
SortField:
SortValue: null
Mosaic Operator: First
Default Compression Quality: 75
Default Resampling Method: Bilinear
Max Record Count: null
Max Image Height: 4100
Max Image Width: 15000
Max Download Image Count: null
Max Mosaic Image Count: null
Allow Raster Function: true
Allow Copy: true
Allow Analysis: true
Allow Compute TiePoints: false
Supports Statistics: false
Supports Advanced Queries: false
Use StandardizedQueries: true
Raster Type Infos:
Name: Raster Dataset
Description: Supports all ArcGIS Raster Datasets
Help:
Has Raster Attribute Table: false
Edit Fields Info: null
Ownership Based AccessControl For Rasters: null
Child Resources:
Info
Histograms
Statistics
Key Properties
Legend
Raster Function Infos
Supported Operations:
Export Image
Identify
Measure
Compute Histograms
Compute Statistics Histograms
Get Samples
Compute Class Statistics
Query Boundary
Compute Pixel Location
Compute Angles
Validate
Project