{
 "currentVersion": 11.5,
 "serviceDescription": "Price_Island_3D_v2_WEL",
 "serviceItemId": "d82fbda22f544b82ac9efe0db335af0a",
 "name": "Price_Island_3D_v2_WEL",
 "description": "",
 "extent": {
  "xmin": 891846.2847444408,
  "ymin": 346164.29887545033,
  "xmax": 899234.2847444408,
  "ymax": 355711.29887545033,
  "spatialReference": {
   "wkid": 103181,
   "latestWkid": 6599
  }
 },
 "initialExtent": {
  "xmin": 891846.2847444408,
  "ymin": 346164.29887545033,
  "xmax": 899234.2847444408,
  "ymax": 355711.29887545033,
  "spatialReference": {
   "wkid": 103181,
   "latestWkid": 6599
  }
 },
 "fullExtent": {
  "xmin": 891846.2847444408,
  "ymin": 346164.29887545033,
  "xmax": 899234.2847444408,
  "ymax": 355711.29887545033,
  "spatialReference": {
   "wkid": 103181,
   "latestWkid": 6599
  }
 },
 "sortableFields": "",
 "bandCount": 1,
 "pixelType": "F32",
 "minValues": [
  -105.60672760009766
 ],
 "maxValues": [
  24.954837799072266
 ],
 "meanValues": [
  -25.478544358031634
 ],
 "stdvValues": [
  30.096127079962177
 ],
 "serviceProperties": "Center<\/MosaicMethod>First<\/MosaicOperator>true<\/SortAscending><\/LockImageID><\/TileOrderField>0<\/TileOrderBase>0.000000<\/AvgImageSpacingX>0.000000<\/AvgImageSpacingY>0.0<\/ViewPointX>0.0<\/ViewPointY>0.0<\/ViewPointDefShiftX>0.0<\/ViewPointDefShiftY>None<\/CompressionMethod>75<\/CompressionQuality>0.100000<\/CompressionTolerance>Bilinear<\/SamplingMethod><\/ImageServiceProperties><\/ImageServer>",
 "allowedFields": "",
 "hasMultidimensions": false,
 "pixelSizeX": 1,
 "pixelSizeY": 1,
 "meanPixelSize": 0.30480060960121924,
 "datasetFormat": "FGDBR",
 "uncompressedSize": 282132944,
 "blockWidth": 128,
 "blockHeight": 128,
 "compressionType": "LZ77",
 "bandNames": [
  "Band_1"
 ],
 "allowCopy": true,
 "allowAnalysis": true,
 "itemAccess": false,
 "inspectionCapabilities": "",
 "minPixelSize": 3.550598152836079,
 "maxPixelSize": 930768.002177061,
 "copyrightText": "",
 "serviceDataType": "esriImageServiceDataTypeGeneric",
 "serviceSourceType": "esriImageServiceSourceTypeDataset",
 "objectIdField": "",
 "fields": [],
 "capabilities": "Image,Metadata,Mensuration",
 "defaultMosaicMethod": "Center",
 "allowedMosaicMethods": "",
 "sortField": "",
 "sortValue": null,
 "sortAscending": true,
 "mosaicOperator": "First",
 "defaultCompressionQuality": 75,
 "defaultResamplingMethod": "Bilinear",
 "maxImageHeight": 4100,
 "maxImageWidth": 15000,
 "singleFusedMapCache": true,
 "tileInfo": {
  "rows": 256,
  "cols": 256,
  "dpi": 96,
  "format": "LERC",
  "compressionQuality": 0,
  "lercError": 0.05,
  "origin": {
   "x": -1.1749788761199716E8,
   "y": 1.1874297398445907E8
  },
  "spatialReference": {
   "wkid": 103181,
   "latestWkid": 6599
  },
  "lods": [
   {
    "level": 0,
    "resolution": 930768.002177061,
    "scale": 1.0722468830017405E9
   },
   {
    "level": 1,
    "resolution": 465384.0010885305,
    "scale": 5.361234415008702E8
   },
   {
    "level": 2,
    "resolution": 232692.00054426526,
    "scale": 2.680617207504351E8
   },
   {
    "level": 3,
    "resolution": 116346.00027213263,
    "scale": 1.3403086037521756E8
   },
   {
    "level": 4,
    "resolution": 58173.000136066315,
    "scale": 6.701543018760878E7
   },
   {
    "level": 5,
    "resolution": 29086.500068033158,
    "scale": 3.350771509380439E7
   },
   {
    "level": 6,
    "resolution": 14543.250034016579,
    "scale": 1.6753857546902195E7
   },
   {
    "level": 7,
    "resolution": 7271.625017008289,
    "scale": 8376928.773451097
   },
   {
    "level": 8,
    "resolution": 3635.8125085041447,
    "scale": 4188464.3867255487
   },
   {
    "level": 9,
    "resolution": 1817.9062542520724,
    "scale": 2094232.1933627743
   },
   {
    "level": 10,
    "resolution": 908.9531271260362,
    "scale": 1047116.0966813872
   },
   {
    "level": 11,
    "resolution": 454.4765635630181,
    "scale": 523558.0483406936
   },
   {
    "level": 12,
    "resolution": 227.23828178150904,
    "scale": 261779.0241703468
   },
   {
    "level": 13,
    "resolution": 113.61914089075452,
    "scale": 130889.5120851734
   },
   {
    "level": 14,
    "resolution": 56.80957044537726,
    "scale": 65444.7560425867
   },
   {
    "level": 15,
    "resolution": 28.40478522268863,
    "scale": 32722.37802129335
   },
   {
    "level": 16,
    "resolution": 14.202392611344315,
    "scale": 16361.189010646674
   },
   {
    "level": 17,
    "resolution": 7.101196305672158,
    "scale": 8180.594505323337
   },
   {
    "level": 18,
    "resolution": 3.550598152836079,
    "scale": 4090.2972526616686
   }
  ]
 },
 "storageInfo": {
  "storageFormat": "esriMapCacheStorageModeCompactV2",
  "packetSize": 128
 },
 "cacheType": "Elevation",
 "allowRasterFunction": true,
 "rasterFunctionInfos": [
  {
   "name": "None",
   "description": "",
   "help": ""
  }
 ],
 "rasterTypeInfos": [
  {
   "name": "Raster Dataset",
   "description": "Supports all ArcGIS Raster Datasets",
   "help": ""
  }
 ],
 "mensurationCapabilities": "Basic",
 "hasHistograms": true,
 "hasColormap": false,
 "hasRasterAttributeTable": false,
 "minScale": 1.0722468830017405E9,
 "maxScale": 4090.2972526616686,
 "minLOD": 0,
 "maxLOD": 18,
 "exportTilesAllowed": false,
 "supportsStatistics": false,
 "supportsAdvancedQueries": false,
 "editFieldsInfo": null,
 "ownershipBasedAccessControlForRasters": null,
 "allowComputeTiePoints": false,
 "useStandardizedQueries": true,
 "advancedQueryCapabilities": {
  "useStandardizedQueries": true,
  "supportsStatistics": false,
  "supportsOrderBy": false,
  "supportsDistinct": false,
  "supportsPagination": false
 },
 "spatialReference": {
  "wkid": 103181,
  "latestWkid": 6599
 }
}
