View In:
ArcGIS JavaScript
ArcGIS Online Map Viewer
ArcGIS Earth
Service Description: Missouri_River_May_Maximum_2019_Flood_Event
Name: Missouri_River_May_Maximum_2019_Flood_Event
Description:
Single Fused Map Cache: false
Extent:
XMin: 967201.2592409002
YMin: 1.3798352287509002E7
XMax: 2498261.189240896
YMax: 1.4589413697509E7
Spatial Reference: 32165
(32165)
LatestVCSWkid(0)
Initial Extent:
XMin: 967201.2592409002
YMin: 1.3798352287509002E7
XMax: 2498261.189240896
YMax: 1.4589413697509E7
Spatial Reference: 32165
(32165)
LatestVCSWkid(0)
Full Extent:
XMin: 967201.2592409002
YMin: 1.3798352287509002E7
XMax: 2498261.189240896
YMax: 1.4589413697509E7
Spatial Reference: 32165
(32165)
LatestVCSWkid(0)
Pixel Size X: 9.842499999999974
Pixel Size Y: 9.842499999999978
Band Count: 1
Pixel Type: F32
RasterFunction Infos: {"rasterFunctionInfos": [{
"name": "None",
"description": "",
"help": ""
}]}
Mensuration Capabilities: Basic
Inspection Capabilities:
Has Histograms: true
Has Colormap: false
Has Multi Dimensions : false
Rendering Rule:
Min Scale: 0
Max Scale: 0
Copyright Text:
Service Data Type: esriImageServiceDataTypeGeneric
Min Values: 9.765625E-4
Max Values: 324.09326171875
Mean Values: 11.375825301303
Standard Deviation Values: 11.568349291864
Object ID Field:
Fields:
None
Default Mosaic Method: Center
Allowed Mosaic Methods:
SortField:
SortValue: null
Mosaic Operator: First
Default Compression Quality: 75
Default Resampling Method: Bilinear
Max Record Count: null
Max Image Height: 4100
Max Image Width: 15000
Max Download Image Count: null
Max Mosaic Image Count: null
Allow Raster Function: true
Allow Copy: true
Allow Analysis: true
Allow Compute TiePoints: false
Supports Statistics: false
Supports Advanced Queries: false
Use StandardizedQueries: true
Raster Type Infos:
Name: Raster Dataset
Description: Supports all ArcGIS Raster Datasets
Help:
Has Raster Attribute Table: false
Edit Fields Info: null
Ownership Based AccessControl For Rasters: null
Child Resources:
Info
Histograms
Statistics
Key Properties
Legend
Raster Function Infos
Supported Operations:
Export Image
Identify
Measure
Compute Histograms
Compute Statistics Histograms
Get Samples
Compute Class Statistics
Query Boundary
Compute Pixel Location
Compute Angles
Validate
Project