{
 "currentVersion": 11.5,
 "serviceDescription": "Missouri_River_May_Maximum_2019_Flood_Event",
 "serviceItemId": "52c1751b1e184e61912a7e73caf66c39",
 "name": "Missouri_River_May_Maximum_2019_Flood_Event",
 "description": "",
 "extent": {
  "xmin": 967201.2592409002,
  "ymin": 1.3798352287509002E7,
  "xmax": 2498261.189240896,
  "ymax": 1.4589413697509E7,
  "spatialReference": {
   "wkid": 32165,
   "latestWkid": 32165
  }
 },
 "initialExtent": {
  "xmin": 967201.2592409002,
  "ymin": 1.3798352287509002E7,
  "xmax": 2498261.189240896,
  "ymax": 1.4589413697509E7,
  "spatialReference": {
   "wkid": 32165,
   "latestWkid": 32165
  }
 },
 "fullExtent": {
  "xmin": 967201.2592409002,
  "ymin": 1.3798352287509002E7,
  "xmax": 2498261.189240896,
  "ymax": 1.4589413697509E7,
  "spatialReference": {
   "wkid": 32165,
   "latestWkid": 32165
  }
 },
 "sortableFields": "",
 "bandCount": 1,
 "pixelType": "F32",
 "minValues": [
  9.765625E-4
 ],
 "maxValues": [
  324.09326171875
 ],
 "meanValues": [
  11.375825301303
 ],
 "stdvValues": [
  11.568349291864
 ],
 "serviceProperties": "Center<\/MosaicMethod>First<\/MosaicOperator>true<\/SortAscending><\/LockImageID><\/TileOrderField>0<\/TileOrderBase>0.000000<\/AvgImageSpacingX>0.000000<\/AvgImageSpacingY>0.0<\/ViewPointX>0.0<\/ViewPointY>0.0<\/ViewPointDefShiftX>0.0<\/ViewPointDefShiftY>None<\/CompressionMethod>75<\/CompressionQuality>0.010000<\/CompressionTolerance>Bilinear<\/SamplingMethod><\/ImageServiceProperties><\/ImageServer>",
 "allowedFields": "",
 "hasMultidimensions": false,
 "pixelSizeX": 9.842499999999974,
 "pixelSizeY": 9.842499999999978,
 "meanPixelSize": 2.9999999999999933,
 "datasetFormat": "TIFF",
 "uncompressedSize": 50009387328,
 "blockWidth": 128,
 "blockHeight": 128,
 "compressionType": "LZW",
 "bandNames": [
  "Band_1"
 ],
 "allowCopy": true,
 "allowAnalysis": true,
 "itemAccess": false,
 "inspectionCapabilities": "",
 "noDataValue": -3.4028234663852886E38,
 "noDataValues": [
  -3.4028234663852886E38
 ],
 "minPixelSize": 0,
 "maxPixelSize": 0,
 "copyrightText": "",
 "serviceDataType": "esriImageServiceDataTypeGeneric",
 "serviceSourceType": "esriImageServiceSourceTypeDataset",
 "objectIdField": "",
 "fields": [],
 "capabilities": "Image,Metadata,Mensuration",
 "defaultMosaicMethod": "Center",
 "allowedMosaicMethods": "",
 "sortField": "",
 "sortValue": null,
 "sortAscending": true,
 "mosaicOperator": "First",
 "defaultCompressionQuality": 75,
 "defaultResamplingMethod": "Bilinear",
 "maxImageHeight": 4100,
 "maxImageWidth": 15000,
 "allowRasterFunction": true,
 "rasterFunctionInfos": [
  {
   "name": "None",
   "description": "",
   "help": ""
  }
 ],
 "rasterTypeInfos": [
  {
   "name": "Raster Dataset",
   "description": "Supports all ArcGIS Raster Datasets",
   "help": ""
  }
 ],
 "mensurationCapabilities": "Basic",
 "hasHistograms": true,
 "hasColormap": false,
 "hasRasterAttributeTable": false,
 "minScale": 0,
 "maxScale": 0,
 "exportTilesAllowed": false,
 "supportsStatistics": false,
 "supportsAdvancedQueries": false,
 "editFieldsInfo": null,
 "ownershipBasedAccessControlForRasters": null,
 "allowComputeTiePoints": false,
 "useStandardizedQueries": true,
 "advancedQueryCapabilities": {
  "useStandardizedQueries": true,
  "supportsStatistics": false,
  "supportsOrderBy": false,
  "supportsDistinct": false,
  "supportsPagination": false
 },
 "spatialReference": {
  "wkid": 32165,
  "latestWkid": 32165
 }
}
