View In:
ArcGIS JavaScript
ArcGIS Online Map Viewer
ArcGIS Earth
Service Description: Hosted/littleriver_CS_20240214
Name: Hosted/littleriver_CS_20240214
Description:
Single Fused Map Cache: false
Extent:
XMin: 2735597.5381048475
YMin: 740689.3326861227
XMax: 2745788.989071425
YMax: 749617.8525669242
Spatial Reference: 103146
(6570)
VCSWkid(105703)
LatestVCSWkid(6360)
Initial Extent:
XMin: 2735597.5381048475
YMin: 740689.3326861227
XMax: 2745788.989071425
YMax: 749617.8525669242
Spatial Reference: 103146
(6570)
VCSWkid(105703)
LatestVCSWkid(6360)
Full Extent:
XMin: 2735597.5381048475
YMin: 740689.3326861227
XMax: 2745788.989071425
YMax: 749617.8525669242
Spatial Reference: 103146
(6570)
VCSWkid(105703)
LatestVCSWkid(6360)
Pixel Size X: 35.38698252283858
Pixel Size Y: 35.857509561451565
Band Count: 1
Pixel Type: F32
RasterFunction Infos: {"rasterFunctionInfos": [{
"name": "None",
"description": "",
"help": ""
}]}
Mensuration Capabilities: Basic
Inspection Capabilities:
Has Histograms: false
Has Colormap: false
Has Multi Dimensions : false
Rendering Rule:
Min Scale: 0
Max Scale: 0
Copyright Text:
Service Data Type: esriImageServiceDataTypeGeneric
Min Values: N/A
Max Values: N/A
Mean Values: N/A
Standard Deviation Values: N/A
Object ID Field:
Fields:
None
Default Mosaic Method: Center
Allowed Mosaic Methods:
SortField:
SortValue: null
Mosaic Operator: First
Default Compression Quality: 75
Default Resampling Method: Bilinear
Max Record Count: null
Max Image Height: 4100
Max Image Width: 15000
Max Download Image Count: null
Max Mosaic Image Count: null
Allow Raster Function: true
Allow Copy: true
Allow Analysis: true
Allow Compute TiePoints: false
Supports Statistics: false
Supports Advanced Queries: false
Use StandardizedQueries: true
Raster Type Infos:
Name: Raster Dataset
Description: Supports all ArcGIS Raster Datasets
Help:
Has Raster Attribute Table: false
Edit Fields Info: null
Ownership Based AccessControl For Rasters: null
Child Resources:
Info
Statistics
Key Properties
Legend
Raster Function Infos
Supported Operations:
Export Image
Identify
Measure
Compute Histograms
Compute Statistics Histograms
Get Samples
Compute Class Statistics
Query Boundary
Compute Pixel Location
Compute Angles
Validate
Project