{
 "currentVersion": 11.3,
 "serviceDescription": "Hosted/littleriver_CS_20240214",
 "name": "Hosted/littleriver_CS_20240214",
 "description": "",
 "extent": {
  "xmin": 2735597.5381048475,
  "ymin": 740689.3326861227,
  "xmax": 2745788.989071425,
  "ymax": 749617.8525669242,
  "spatialReference": {
   "wkid": 103146,
   "latestWkid": 6570,
   "vcsWkid": 105703,
   "latestVcsWkid": 6360
  }
 },
 "initialExtent": {
  "xmin": 2735597.5381048475,
  "ymin": 740689.3326861227,
  "xmax": 2745788.989071425,
  "ymax": 749617.8525669242,
  "spatialReference": {
   "wkid": 103146,
   "latestWkid": 6570,
   "vcsWkid": 105703,
   "latestVcsWkid": 6360
  }
 },
 "fullExtent": {
  "xmin": 2735597.5381048475,
  "ymin": 740689.3326861227,
  "xmax": 2745788.989071425,
  "ymax": 749617.8525669242,
  "spatialReference": {
   "wkid": 103146,
   "latestWkid": 6570,
   "vcsWkid": 105703,
   "latestVcsWkid": 6360
  }
 },
 "sortableFields": "",
 "heightModelInfo": {
  "heightModel": "gravity_related_height",
  "vertCRS": "NAVD88_height_(ftUS)",
  "heightUnit": "us-foot"
 },
 "bandCount": 1,
 "pixelType": "F32",
 "minValues": [],
 "maxValues": [],
 "meanValues": [],
 "stdvValues": [],
 "hasMultidimensions": false,
 "pixelSizeX": 35.38698252283858,
 "pixelSizeY": 35.857509561451565,
 "meanPixelSize": 10.857660593645818,
 "datasetFormat": "TIFF",
 "uncompressedSize": 286848,
 "blockWidth": 128,
 "blockHeight": 128,
 "compressionType": "None",
 "bandNames": [
  "Band_1"
 ],
 "allowCopy": true,
 "allowAnalysis": true,
 "itemAccess": false,
 "inspectionCapabilities": "",
 "minPixelSize": 0,
 "maxPixelSize": 0,
 "copyrightText": "",
 "serviceDataType": "esriImageServiceDataTypeGeneric",
 "serviceSourceType": "esriImageServiceSourceTypeDataset",
 "objectIdField": "",
 "fields": [],
 "capabilities": "Image, Metadata, Mensuration",
 "defaultMosaicMethod": "Center",
 "allowedMosaicMethods": "",
 "sortField": "",
 "sortValue": null,
 "sortAscending": true,
 "mosaicOperator": "First",
 "defaultCompressionQuality": 75,
 "defaultResamplingMethod": "Bilinear",
 "maxImageHeight": 4100,
 "maxImageWidth": 15000,
 "allowRasterFunction": true,
 "rasterFunctionInfos": [
  {
   "name": "None",
   "description": "",
   "help": ""
  }
 ],
 "rasterTypeInfos": [
  {
   "name": "Raster Dataset",
   "description": "Supports all ArcGIS Raster Datasets",
   "help": ""
  }
 ],
 "mensurationCapabilities": "Basic",
 "hasHistograms": false,
 "hasColormap": false,
 "hasRasterAttributeTable": false,
 "minScale": 0,
 "maxScale": 0,
 "exportTilesAllowed": false,
 "supportsStatistics": false,
 "supportsAdvancedQueries": false,
 "editFieldsInfo": null,
 "ownershipBasedAccessControlForRasters": null,
 "allowComputeTiePoints": false,
 "useStandardizedQueries": true,
 "advancedQueryCapabilities": {
  "useStandardizedQueries": true,
  "supportsStatistics": false,
  "supportsOrderBy": false,
  "supportsDistinct": false,
  "supportsPagination": false
 },
 "spatialReference": {
  "wkid": 103146,
  "latestWkid": 6570,
  "vcsWkid": 105703,
  "latestVcsWkid": 6360
 }
}
