View In:
ArcGIS JavaScript
ArcGIS Online Map Viewer
ArcGIS Earth
Service Description: This is a multispectral 6 foot pixel, eight-band (CB,B,G,Y,R,RE, N1,N2), controlled, orthorectified satellite image. The raw WorldView-3 images were collected by DigitalGlobe and post-processed by USACE Wilmington District GIS Staff.
Name: charleston_harbor_20230304_8band_1030_02_p003_scspintf_tif
Description: This is a multispectral 6 foot pixel, eight-band (CB,B,G,Y,R,RE, N1,N2), controlled, orthorectified satellite image. The raw WorldView-3 images were collected by DigitalGlobe and post-processed by USACE Wilmington District GIS Staff.
Single Fused Map Cache: false
Extent:
XMin: 2337123
YMin: 342732
XMax: 2395389
YMax: 393504
Spatial Reference: 2273
(2273)
Initial Extent:
XMin: 2337123
YMin: 342732
XMax: 2395389
YMax: 393504
Spatial Reference: 2273
(2273)
Full Extent:
XMin: 2337123
YMin: 342732
XMax: 2395389
YMax: 393504
Spatial Reference: 2273
(2273)
Pixel Size X: 6.0
Pixel Size Y: 6.0
Band Count: 8
Pixel Type: U8
RasterFunction Infos: {"rasterFunctionInfos": [{
"name": "None",
"description": "",
"help": ""
}]}
Mensuration Capabilities: Basic
Inspection Capabilities:
Has Histograms: true
Has Colormap: false
Has Multi Dimensions : false
Rendering Rule:
Min Scale: 0
Max Scale: 0
Resampling: false
Copyright Text: Copyright 2023 Maxar Technologies
Service Data Type: esriImageServiceDataTypeGeneric
Min Values: 0, 0, 0, 0, 0, 0, 0, 0
Max Values: 255, 255, 255, 255, 255, 255, 255, 255
Mean Values: 22.29801236837, 30.139961880138, 34.133440062327, 21.084668035993, 18.084536474464, 19.166834042231, 27.987795067566, 19.653561466935
Standard Deviation Values: 2.71320387511, 6.4528214875549, 10.302546241166, 8.0747490742191, 8.3206101447933, 9.0574682244658, 16.693680355653, 12.461179271028
Object ID Field:
Fields:
None
Default Mosaic Method: Center
Allowed Mosaic Methods:
SortField:
SortValue: null
Mosaic Operator: First
Default Compression Quality: 75
Default Resampling Method: Bilinear
Max Record Count: null
Max Image Height: 4100
Max Image Width: 15000
Max Download Image Count: null
Max Mosaic Image Count: null
Allow Raster Function: true
Allow Copy: true
Allow Analysis: true
Allow Compute TiePoints: false
Supports Statistics: false
Supports Advanced Queries: false
Use StandardizedQueries: true
Raster Type Infos:
Name: Raster Dataset
Description: Supports all ArcGIS Raster Datasets
Help:
Has Raster Attribute Table: false
Edit Fields Info: null
Ownership Based AccessControl For Rasters: null
Child Resources:
Info
Histograms
Statistics
Key Properties
Legend
Raster Function Infos
Supported Operations:
Export Image
Identify
Measure
Compute Histograms
Compute Statistics Histograms
Get Samples
Compute Class Statistics
Query Boundary
Compute Pixel Location
Compute Angles
Validate
Project