View In:
ArcGIS JavaScript
ArcGIS Online Map Viewer
ArcGIS Earth
Service Description: Hurricane_David_1979
Name: Hurricane_David_1979
Description:
Single Fused Map Cache: false
Extent:
XMin: 572614.0298527163
YMin: 3607773.2436828515
XMax: 626749.0298527163
YMax: 3659095.7436828515
Spatial Reference: 26917
(26917)
LatestVCSWkid(0)
Initial Extent:
XMin: 572614.0298527163
YMin: 3607773.2436828515
XMax: 626749.0298527163
YMax: 3659095.7436828515
Spatial Reference: 26917
(26917)
LatestVCSWkid(0)
Full Extent:
XMin: 572614.0298527163
YMin: 3607773.2436828515
XMax: 626749.0298527163
YMax: 3659095.7436828515
Spatial Reference: 26917
(26917)
LatestVCSWkid(0)
Pixel Size X: 2.5
Pixel Size Y: 2.5
Band Count: 1
Pixel Type: F32
RasterFunction Infos: {"rasterFunctionInfos": [{
"name": "None",
"description": "",
"help": ""
}]}
Mensuration Capabilities: Basic
Inspection Capabilities:
Has Histograms: false
Has Colormap: false
Has Multi Dimensions : false
Rendering Rule:
Min Scale: 0
Max Scale: 0
Copyright Text:
Service Data Type: esriImageServiceDataTypeGeneric
Min Values: 9.5367431640625E-7
Max Values: 59.72785949707031
Mean Values: 5.781177611870912
Standard Deviation Values: 3.4641496777986647
Object ID Field:
Fields:
None
Default Mosaic Method: Center
Allowed Mosaic Methods:
SortField:
SortValue: null
Mosaic Operator: First
Default Compression Quality: 75
Default Resampling Method: Bilinear
Max Record Count: null
Max Image Height: 4100
Max Image Width: 15000
Max Download Image Count: null
Max Mosaic Image Count: null
Allow Raster Function: true
Allow Copy: true
Allow Analysis: true
Allow Compute TiePoints: false
Supports Statistics: false
Supports Advanced Queries: false
Use StandardizedQueries: true
Raster Type Infos:
Name: Raster Dataset
Description: Supports all ArcGIS Raster Datasets
Help:
Has Raster Attribute Table: false
Edit Fields Info: null
Ownership Based AccessControl For Rasters: null
Child Resources:
Info
Statistics
Key Properties
Legend
Raster Function Infos
Supported Operations:
Export Image
Identify
Measure
Compute Histograms
Compute Statistics Histograms
Get Samples
Compute Class Statistics
Query Boundary
Compute Pixel Location
Compute Angles
Validate
Project