View In:
ArcGIS JavaScript
ArcGIS Online Map Viewer
ArcGIS Earth
Service Description: This is a 1.5 foot Bare Earth DEM (Digital Elevation Model) raster dataset created using ground returns and 3D breaklines along hydro features and sharp terrain breaks.
Name: 230308_JDPool_3D_Elevation
Description: This is a 1.5 foot Bare Earth DEM (Digital Elevation Model) raster dataset created using ground returns and 3D breaklines along hydro features and sharp terrain breaks.
Single Fused Map Cache: true
Tile Info:
- Height: 256
- Width: 256
- DPI: 96
-
Levels of Detail: 19
-
Level ID: 0
[ Start Tile, End Tile ]
- Resolution: 933869.8159250169
- Scale: 1.0758180279456193E9
-
Level ID: 1
[ Start Tile, End Tile ]
- Resolution: 466934.90796250844
- Scale: 5.379090139728097E8
-
Level ID: 2
[ Start Tile, End Tile ]
- Resolution: 233467.45398125422
- Scale: 2.6895450698640484E8
-
Level ID: 3
[ Start Tile, End Tile ]
- Resolution: 116733.72699062711
- Scale: 1.3447725349320242E8
-
Level ID: 4
[ Start Tile, End Tile ]
- Resolution: 58366.863495313555
- Scale: 6.723862674660121E7
-
Level ID: 5
[ Start Tile, End Tile ]
- Resolution: 29183.431747656778
- Scale: 3.3619313373300605E7
-
Level ID: 6
[ Start Tile, End Tile ]
- Resolution: 14591.715873828389
- Scale: 1.6809656686650302E7
-
Level ID: 7
[ Start Tile, End Tile ]
- Resolution: 7295.857936914194
- Scale: 8404828.343325151
-
Level ID: 8
[ Start Tile, End Tile ]
- Resolution: 3647.928968457097
- Scale: 4202414.171662576
-
Level ID: 9
[ Start Tile, End Tile ]
- Resolution: 1823.9644842285486
- Scale: 2101207.085831288
-
Level ID: 10
[ Start Tile, End Tile ]
- Resolution: 911.9822421142743
- Scale: 1050603.542915644
-
Level ID: 11
[ Start Tile, End Tile ]
- Resolution: 455.99112105713715
- Scale: 525301.771457822
-
Level ID: 12
[ Start Tile, End Tile ]
- Resolution: 227.99556052856857
- Scale: 262650.885728911
-
Level ID: 13
[ Start Tile, End Tile ]
- Resolution: 113.99778026428429
- Scale: 131325.4428644555
-
Level ID: 14
[ Start Tile, End Tile ]
- Resolution: 56.998890132142144
- Scale: 65662.72143222774
-
Level ID: 15
[ Start Tile, End Tile ]
- Resolution: 28.499445066071072
- Scale: 32831.36071611387
-
Level ID: 16
[ Start Tile, End Tile ]
- Resolution: 14.249722533035536
- Scale: 16415.680358056936
-
Level ID: 17
[ Start Tile, End Tile ]
- Resolution: 7.124861266517768
- Scale: 8207.840179028468
-
Level ID: 18
[ Start Tile, End Tile ]
- Resolution: 3.562430633258884
- Scale: 4103.920089514234
- Format: LERC
- Compression Quality: 0.0
- LERC Error: 0.05
- Origin: X: -1.1133323670086935E8
Y: 1.1766207498292059E8
- Spatial Reference: 103137
(6559)
LatestVCSWkid(0)
Storage Info:
- Storage Format: esriMapCacheStorageModeCompactV2
- Packet Size: 128
Extent:
XMin: 8473804.664041996
YMin: 818554.9750656188
XMax: 8498164.664041996
YMax: 824802.4750656188
Spatial Reference: 103137
(6559)
VCSWkid(8228)
LatestVCSWkid(8228)
Initial Extent:
XMin: 8473804.664041996
YMin: 818554.9750656188
XMax: 8498164.664041996
YMax: 824802.4750656188
Spatial Reference: 103137
(6559)
VCSWkid(8228)
LatestVCSWkid(8228)
Full Extent:
XMin: 8473804.664041996
YMin: 818554.9750656188
XMax: 8498164.664041996
YMax: 824802.4750656188
Spatial Reference: 103137
(6559)
VCSWkid(8228)
LatestVCSWkid(8228)
Pixel Size X: 1.5
Pixel Size Y: 1.5
Band Count: 1
Pixel Type: F32
RasterFunction Infos: {"rasterFunctionInfos": [{
"name": "None",
"description": "",
"help": ""
}]}
Mensuration Capabilities: Basic
Inspection Capabilities:
Has Histograms: true
Has Colormap: false
Has Multi Dimensions : false
Rendering Rule:
Min Scale: 1.0758180279456193E9
Max Scale: 4103.920089514234
Min LOD: 0
Max LOD: 18
Copyright Text: GeoTerra, Inc.
Service Data Type: esriImageServiceDataTypeGeneric
Min Values: 267.00204467773
Max Values: 328.0168762207
Mean Values: 289.53300691111
Standard Deviation Values: 15.025254112237
Object ID Field:
Fields:
None
Default Mosaic Method: Center
Allowed Mosaic Methods:
SortField:
SortValue: null
Mosaic Operator: First
Default Compression Quality: 75
Default Resampling Method: Bilinear
Max Record Count: null
Max Image Height: 4100
Max Image Width: 15000
Max Download Image Count: null
Max Mosaic Image Count: null
Allow Raster Function: true
Allow Copy: true
Allow Analysis: true
Allow Compute TiePoints: false
Supports Statistics: false
Supports Advanced Queries: false
Use StandardizedQueries: true
Raster Type Infos:
Name: Raster Dataset
Description: Supports all ArcGIS Raster Datasets
Help:
Has Raster Attribute Table: false
Edit Fields Info: null
Ownership Based AccessControl For Rasters: null
Child Resources:
Info
Histograms
Statistics
Key Properties
Legend
Raster Function Infos
Supported Operations:
Export Image
Identify
Measure
Compute Histograms
Compute Statistics Histograms
Get Samples
Compute Class Statistics
Query Boundary
Compute Pixel Location
Compute Angles
Validate
Project