View In:
ArcGIS JavaScript
ArcGIS Online Map Viewer
ArcGIS Earth
Service Description: stJohn_10Oct2024_12Z7dayQPFand3dayQPE
Name: stJohn_10Oct2024_12Z7dayQPFand3dayQPE
Description:
Single Fused Map Cache: false
Extent:
XMin: 4254679.319420824
YMin: 1986029.4925000004
XMax: 5012463.236920823
YMax: 3065909.2225
Spatial Reference: 0
(0)
LatestVCSWkid(0)
Initial Extent:
XMin: 4254679.319420824
YMin: 1986029.4925000004
XMax: 5012463.236920823
YMax: 3065909.2225
Spatial Reference: 0
(0)
LatestVCSWkid(0)
Full Extent:
XMin: 4254679.319420824
YMin: 1986029.4925000004
XMax: 5012463.236920823
YMax: 3065909.2225
Spatial Reference: 0
(0)
LatestVCSWkid(0)
Pixel Size X: 9.842499999999994
Pixel Size Y: 9.842499999999998
Band Count: 1
Pixel Type: F32
RasterFunction Infos: {"rasterFunctionInfos": [{
"name": "None",
"description": "",
"help": ""
}]}
Mensuration Capabilities: Basic
Inspection Capabilities:
Has Histograms: true
Has Colormap: false
Has Multi Dimensions : false
Rendering Rule:
Min Scale: 0
Max Scale: 0
Copyright Text:
Service Data Type: esriImageServiceDataTypeGeneric
Min Values: 9.9945068359375E-4
Max Values: 65.600051879883
Mean Values: 3.2747358831101
Standard Deviation Values: 4.3639308683042
Object ID Field:
Fields:
None
Default Mosaic Method: Center
Allowed Mosaic Methods:
SortField:
SortValue: null
Mosaic Operator: First
Default Compression Quality: 75
Default Resampling Method: Bilinear
Max Record Count: null
Max Image Height: 4100
Max Image Width: 15000
Max Download Image Count: null
Max Mosaic Image Count: null
Allow Raster Function: true
Allow Copy: true
Allow Analysis: true
Allow Compute TiePoints: false
Supports Statistics: false
Supports Advanced Queries: false
Use StandardizedQueries: true
Raster Type Infos:
Name: Raster Dataset
Description: Supports all ArcGIS Raster Datasets
Help:
Has Raster Attribute Table: false
Edit Fields Info: null
Ownership Based AccessControl For Rasters: null
Child Resources:
Info
Histograms
Statistics
Key Properties
Legend
Raster Function Infos
Supported Operations:
Export Image
Identify
Measure
Compute Histograms
Compute Statistics Histograms
Get Samples
Compute Class Statistics
Query Boundary
Compute Pixel Location
Compute Angles
Validate
Project