View In:
ArcGIS JavaScript
ArcGIS Online Map Viewer
ArcGIS Earth
Service Description: charleston_harbor_20230304_8band_1030_02_p002_scspintf_tif
Name: charleston_harbor_20230304_8band_1030_02_p002_scspintf_tif
Description:
Single Fused Map Cache: false
Extent:
XMin: 2337500
YMin: 303248.0000000001
XMax: 2395436
YMax: 353276.0000000001
Spatial Reference: 2273
(2273)
Initial Extent:
XMin: 2337500
YMin: 303248.0000000001
XMax: 2395436
YMax: 353276.0000000001
Spatial Reference: 2273
(2273)
Full Extent:
XMin: 2337500
YMin: 303248.0000000001
XMax: 2395436
YMax: 353276.0000000001
Spatial Reference: 2273
(2273)
Pixel Size X: 6.0
Pixel Size Y: 6.0
Band Count: 8
Pixel Type: U8
RasterFunction Infos: {"rasterFunctionInfos": [{
"name": "None",
"description": "",
"help": ""
}]}
Mensuration Capabilities: Basic
Inspection Capabilities:
Has Histograms: true
Has Colormap: false
Has Multi Dimensions : false
Rendering Rule:
Min Scale: 0
Max Scale: 0
Copyright Text:
Service Data Type: esriImageServiceDataTypeGeneric
Min Values: 0, 0, 0, 0, 0, 0, 0, 0
Max Values: 255, 255, 255, 255, 255, 255, 255, 255
Mean Values: 24.201412358218, 31.138467578279, 39.172160557792, 23.814815252757, 19.199999570245, 14.386186792566, 14.900173562285, 8.9316902625682
Standard Deviation Values: 2.0670449849206, 4.5989856523889, 7.3517017245818, 5.4906472862361, 5.6622742662925, 6.7309197295388, 11.294867836529, 7.8996825931096
Object ID Field:
Fields:
None
Default Mosaic Method: Center
Allowed Mosaic Methods:
SortField:
SortValue: null
Mosaic Operator: First
Default Compression Quality: 75
Default Resampling Method: Bilinear
Max Record Count: null
Max Image Height: 4100
Max Image Width: 15000
Max Download Image Count: null
Max Mosaic Image Count: null
Allow Raster Function: true
Allow Copy: true
Allow Analysis: true
Allow Compute TiePoints: false
Supports Statistics: false
Supports Advanced Queries: false
Use StandardizedQueries: true
Raster Type Infos:
Name: Raster Dataset
Description: Supports all ArcGIS Raster Datasets
Help:
Has Raster Attribute Table: false
Edit Fields Info: null
Ownership Based AccessControl For Rasters: null
Child Resources:
Info
Histograms
Statistics
Key Properties
Legend
Raster Function Infos
Supported Operations:
Export Image
Identify
Measure
Compute Histograms
Compute Statistics Histograms
Get Samples
Compute Class Statistics
Query Boundary
Compute Pixel Location
Compute Angles
Validate
Project