View In:
ArcGIS JavaScript
ArcGIS Online Map Viewer
ArcGIS Earth
Service Description: TampaBay_08Oct2024_6Z_7dayQPFandQPE_tif
Name: TampaBay_08Oct2024_6Z_7dayQPFandQPE_tif
Description:
Single Fused Map Cache: false
Extent:
XMin: 4097794.780813133
YMin: 1369259.9998205295
XMax: 4951543.790813133
YMax: 2897976.32982053
Spatial Reference: 0
(0)
LatestVCSWkid(0)
Initial Extent:
XMin: 4097794.780813133
YMin: 1369259.9998205295
XMax: 4951543.790813133
YMax: 2897976.32982053
Spatial Reference: 0
(0)
LatestVCSWkid(0)
Full Extent:
XMin: 4097794.780813133
YMin: 1369259.9998205295
XMax: 4951543.790813133
YMax: 2897976.32982053
Spatial Reference: 0
(0)
LatestVCSWkid(0)
Pixel Size X: 32.81000000000001
Pixel Size Y: 32.81000000000001
Band Count: 1
Pixel Type: F32
RasterFunction Infos: {"rasterFunctionInfos": [{
"name": "None",
"description": "",
"help": ""
}]}
Mensuration Capabilities: Basic
Inspection Capabilities:
Has Histograms: true
Has Colormap: false
Has Multi Dimensions : false
Rendering Rule:
Min Scale: 0
Max Scale: 0
Copyright Text:
Service Data Type: esriImageServiceDataTypeGeneric
Min Values: 9.9945068359375E-4
Max Values: 103.26744842529
Mean Values: 8.6860582870824
Standard Deviation Values: 10.972267207
Object ID Field:
Fields:
None
Default Mosaic Method: Center
Allowed Mosaic Methods:
SortField:
SortValue: null
Mosaic Operator: First
Default Compression Quality: 75
Default Resampling Method: Bilinear
Max Record Count: null
Max Image Height: 4100
Max Image Width: 15000
Max Download Image Count: null
Max Mosaic Image Count: null
Allow Raster Function: true
Allow Copy: true
Allow Analysis: true
Allow Compute TiePoints: false
Supports Statistics: false
Supports Advanced Queries: false
Use StandardizedQueries: true
Raster Type Infos:
Name: Raster Dataset
Description: Supports all ArcGIS Raster Datasets
Help:
Has Raster Attribute Table: false
Edit Fields Info: null
Ownership Based AccessControl For Rasters: null
Child Resources:
Info
Histograms
Statistics
Key Properties
Legend
Raster Function Infos
Supported Operations:
Export Image
Identify
Measure
Compute Histograms
Compute Statistics Histograms
Get Samples
Compute Class Statistics
Query Boundary
Compute Pixel Location
Compute Angles
Validate
Project