View In:
ArcGIS JavaScript
ArcGIS Online Map Viewer
ArcGIS Earth
Service Description: Suwannee_06Aug2024_12Z_7dayQPE_tif
Name: Suwannee_06Aug2024_12Z_7dayQPE_tif
Description:
Single Fused Map Cache: false
Extent:
XMin: 3646352.492348544
YMin: 2402476.648510549
XMax: 4464615.626127461
YMax: 3933581.705901205
Spatial Reference: 0
(0)
LatestVCSWkid(0)
Initial Extent:
XMin: 3646352.492348544
YMin: 2402476.648510549
XMax: 4464615.626127461
YMax: 3933581.705901205
Spatial Reference: 0
(0)
LatestVCSWkid(0)
Full Extent:
XMin: 3646352.492348544
YMin: 2402476.648510549
XMax: 4464615.626127461
YMax: 3933581.705901205
Spatial Reference: 0
(0)
LatestVCSWkid(0)
Pixel Size X: 32.86197324413322
Pixel Size Y: 32.86197324413324
Band Count: 1
Pixel Type: F32
RasterFunction Infos: {"rasterFunctionInfos": [{
"name": "None",
"description": "",
"help": ""
}]}
Mensuration Capabilities: Basic
Inspection Capabilities:
Has Histograms: false
Has Colormap: false
Has Multi Dimensions : false
Rendering Rule:
Min Scale: 0
Max Scale: 0
Copyright Text:
Service Data Type: esriImageServiceDataTypeGeneric
Min Values: 9.9945068359375E-4
Max Values: 85.021728515625
Mean Values: 2.70561153506602
Standard Deviation Values: 3.24241322708035
Object ID Field:
Fields:
None
Default Mosaic Method: Center
Allowed Mosaic Methods:
SortField:
SortValue: null
Mosaic Operator: First
Default Compression Quality: 75
Default Resampling Method: Bilinear
Max Record Count: null
Max Image Height: 4100
Max Image Width: 15000
Max Download Image Count: null
Max Mosaic Image Count: null
Allow Raster Function: true
Allow Copy: true
Allow Analysis: true
Allow Compute TiePoints: false
Supports Statistics: false
Supports Advanced Queries: false
Use StandardizedQueries: true
Raster Type Infos:
Name: Raster Dataset
Description: Supports all ArcGIS Raster Datasets
Help:
Has Raster Attribute Table: false
Edit Fields Info: null
Ownership Based AccessControl For Rasters: null
Child Resources:
Info
Statistics
Key Properties
Legend
Raster Function Infos
Supported Operations:
Export Image
Identify
Measure
Compute Histograms
Compute Statistics Histograms
Get Samples
Compute Class Statistics
Query Boundary
Compute Pixel Location
Compute Angles
Validate
Project