View In:
ArcGIS JavaScript
ArcGIS Online Map Viewer
ArcGIS Earth
Service Description: StMarys_06Aug2024_12Z_7dayQPF_tif
Name: StMarys_06Aug2024_12Z_7dayQPF_tif
Description:
Single Fused Map Cache: false
Extent:
XMin: 3600210.0293955314
YMin: 613455.0263325558
XMax: 5398951.381122966
YMax: 4390598.210534138
Spatial Reference: 0
(0)
LatestVCSWkid(0)
Initial Extent:
XMin: 3600210.0293955314
YMin: 613455.0263325558
XMax: 5398951.381122966
YMax: 4390598.210534138
Spatial Reference: 0
(0)
LatestVCSWkid(0)
Full Extent:
XMin: 3600210.0293955314
YMin: 613455.0263325558
XMax: 5398951.381122966
YMax: 4390598.210534138
Spatial Reference: 0
(0)
LatestVCSWkid(0)
Pixel Size X: 38.1525760770253
Pixel Size Y: 38.1525760770253
Band Count: 1
Pixel Type: F32
RasterFunction Infos: {"rasterFunctionInfos": [{
"name": "None",
"description": "",
"help": ""
}]}
Mensuration Capabilities: Basic
Inspection Capabilities:
Has Histograms: false
Has Colormap: false
Has Multi Dimensions : false
Rendering Rule:
Min Scale: 0
Max Scale: 0
Copyright Text:
Service Data Type: esriImageServiceDataTypeGeneric
Min Values: 9.9945068359375E-4
Max Values: 30.9951629638672
Mean Values: 3.477932217193
Standard Deviation Values: 3.64123153077499
Object ID Field:
Fields:
None
Default Mosaic Method: Center
Allowed Mosaic Methods:
SortField:
SortValue: null
Mosaic Operator: First
Default Compression Quality: 75
Default Resampling Method: Bilinear
Max Record Count: null
Max Image Height: 4100
Max Image Width: 15000
Max Download Image Count: null
Max Mosaic Image Count: null
Allow Raster Function: true
Allow Copy: true
Allow Analysis: true
Allow Compute TiePoints: false
Supports Statistics: false
Supports Advanced Queries: false
Use StandardizedQueries: true
Raster Type Infos:
Name: Raster Dataset
Description: Supports all ArcGIS Raster Datasets
Help:
Has Raster Attribute Table: false
Edit Fields Info: null
Ownership Based AccessControl For Rasters: null
Child Resources:
Info
Statistics
Key Properties
Legend
Raster Function Infos
Supported Operations:
Export Image
Identify
Measure
Compute Histograms
Compute Statistics Histograms
Get Samples
Compute Class Statistics
Query Boundary
Compute Pixel Location
Compute Angles
Validate
Project