View In:
ArcGIS JavaScript
ArcGIS Online Map Viewer
ArcGIS Earth
Service Description: StJohnsRiver_01April2025_
Name: StJohnsRiver_01April2025_
Description:
Single Fused Map Cache: false
Extent:
XMin: 1814234.36800712
YMin: 4969169.56375118
XMax: 2018514.36800712
YMax: 5230953.56375118
Spatial Reference: 0
(0)
LatestVCSWkid(0)
Initial Extent:
XMin: 1814234.36800712
YMin: 4969169.56375118
XMax: 2018514.36800712
YMax: 5230953.56375118
Spatial Reference: 0
(0)
LatestVCSWkid(0)
Full Extent:
XMin: 1814234.36800712
YMin: 4969169.56375118
XMax: 2018514.36800712
YMax: 5230953.56375118
Spatial Reference: 0
(0)
LatestVCSWkid(0)
Pixel Size X: 4.0
Pixel Size Y: 4.0
Band Count: 1
Pixel Type: F32
RasterFunction Infos: {"rasterFunctionInfos": [{
"name": "None",
"description": "",
"help": ""
}]}
Mensuration Capabilities: Basic
Inspection Capabilities:
Has Histograms: true
Has Colormap: false
Has Multi Dimensions : false
Rendering Rule:
Min Scale: 0
Max Scale: 0
Copyright Text:
Service Data Type: esriImageServiceDataTypeGeneric
Min Values: 0.001007080078125
Max Values: 28.781677246094
Mean Values: 2.0820310595828
Standard Deviation Values: 2.2074848319672
Object ID Field:
Fields:
None
Default Mosaic Method: Center
Allowed Mosaic Methods:
SortField:
SortValue: null
Mosaic Operator: First
Default Compression Quality: 75
Default Resampling Method: Bilinear
Max Record Count: null
Max Image Height: 4100
Max Image Width: 15000
Max Download Image Count: null
Max Mosaic Image Count: null
Allow Raster Function: true
Allow Copy: true
Allow Analysis: true
Allow Compute TiePoints: false
Supports Statistics: false
Supports Advanced Queries: false
Use StandardizedQueries: true
Raster Type Infos:
Name: Raster Dataset
Description: Supports all ArcGIS Raster Datasets
Help:
Has Raster Attribute Table: false
Edit Fields Info: null
Ownership Based AccessControl For Rasters: null
Child Resources:
Info
Histograms
Statistics
Key Properties
Legend
Raster Function Infos
Supported Operations:
Export Image
Identify
Measure
Compute Histograms
Compute Statistics Histograms
Get Samples
Compute Class Statistics
Query Boundary
Compute Pixel Location
Compute Angles
Validate
Project