View In:
ArcGIS JavaScript
ArcGIS Online Map Viewer
ArcGIS Earth
Service Description: StFrancis_01April2025
Name: StFrancis_01April2025
Description:
Single Fused Map Cache: false
Extent:
XMin: 1458239.9629121001
YMin: 3987223.1708788304
XMax: 1855469.9629121001
YMax: 5202883.17087883
Spatial Reference: 0
(0)
LatestVCSWkid(0)
Initial Extent:
XMin: 1458239.9629121001
YMin: 3987223.1708788304
XMax: 1855469.9629121001
YMax: 5202883.17087883
Spatial Reference: 0
(0)
LatestVCSWkid(0)
Full Extent:
XMin: 1458239.9629121001
YMin: 3987223.1708788304
XMax: 1855469.9629121001
YMax: 5202883.17087883
Spatial Reference: 0
(0)
LatestVCSWkid(0)
Pixel Size X: 30.0
Pixel Size Y: 30.0
Band Count: 1
Pixel Type: F32
RasterFunction Infos: {"rasterFunctionInfos": [{
"name": "None",
"description": "",
"help": ""
}]}
Mensuration Capabilities: Basic
Inspection Capabilities:
Has Histograms: true
Has Colormap: false
Has Multi Dimensions : false
Rendering Rule:
Min Scale: 0
Max Scale: 0
Copyright Text:
Service Data Type: esriImageServiceDataTypeGeneric
Min Values: 0.001007080078125
Max Values: 55.125930786133
Mean Values: 7.206157308199
Standard Deviation Values: 6.2169843017038
Object ID Field:
Fields:
None
Default Mosaic Method: Center
Allowed Mosaic Methods:
SortField:
SortValue: null
Mosaic Operator: First
Default Compression Quality: 75
Default Resampling Method: Bilinear
Max Record Count: null
Max Image Height: 4100
Max Image Width: 15000
Max Download Image Count: null
Max Mosaic Image Count: null
Allow Raster Function: true
Allow Copy: true
Allow Analysis: true
Allow Compute TiePoints: false
Supports Statistics: false
Supports Advanced Queries: false
Use StandardizedQueries: true
Raster Type Infos:
Name: Raster Dataset
Description: Supports all ArcGIS Raster Datasets
Help:
Has Raster Attribute Table: false
Edit Fields Info: null
Ownership Based AccessControl For Rasters: null
Child Resources:
Info
Histograms
Statistics
Key Properties
Legend
Raster Function Infos
Supported Operations:
Export Image
Identify
Measure
Compute Histograms
Compute Statistics Histograms
Get Samples
Compute Class Statistics
Query Boundary
Compute Pixel Location
Compute Angles
Validate
Project