View In:
ArcGIS JavaScript
ArcGIS Online Map Viewer
ArcGIS Earth
Service Description: Southern_Louisiana_ADCIRC_19JUN2026
Name: Southern_Louisiana_ADCIRC_19JUN2026
Description:
Single Fused Map Cache: false
Extent:
XMin: 624127.3470825438
YMin: 2095633.4856474013
XMax: 2684027.3470825437
YMax: 3136733.4856474013
Spatial Reference: 0
(0)
LatestVCSWkid(0)
Initial Extent:
XMin: 624127.3470825438
YMin: 2095633.4856474013
XMax: 2684027.3470825437
YMax: 3136733.4856474013
Spatial Reference: 0
(0)
LatestVCSWkid(0)
Full Extent:
XMin: 624127.3470825438
YMin: 2095633.4856474013
XMax: 2684027.3470825437
YMax: 3136733.4856474013
Spatial Reference: 0
(0)
LatestVCSWkid(0)
Pixel Size X: 100.0
Pixel Size Y: 100.0
Band Count: 1
Pixel Type: F32
RasterFunction Infos: {"rasterFunctionInfos": [{
"name": "None",
"description": "",
"help": ""
}]}
Mensuration Capabilities: Basic
Inspection Capabilities:
Has Histograms: true
Has Colormap: false
Has Multi Dimensions : false
Rendering Rule:
Min Scale: 0
Max Scale: 0
Copyright Text:
Service Data Type: esriImageServiceDataTypeGeneric
Min Values: 0.0012836456298828
Max Values: 10430.733398438
Mean Values: 3067.8962702346
Standard Deviation Values: 3153.2212484521
Object ID Field:
Fields:
None
Default Mosaic Method: Center
Allowed Mosaic Methods:
SortField:
SortValue: null
Mosaic Operator: First
Default Compression Quality: 75
Default Resampling Method: Bilinear
Max Record Count: null
Max Image Height: 4100
Max Image Width: 15000
Max Download Image Count: null
Max Mosaic Image Count: null
Allow Raster Function: true
Allow Copy: true
Allow Analysis: true
Allow Compute TiePoints: false
Supports Statistics: false
Supports Advanced Queries: false
Use StandardizedQueries: true
Raster Type Infos:
Name: Raster Dataset
Description: Supports all ArcGIS Raster Datasets
Help:
Has Raster Attribute Table: false
Edit Fields Info: null
Ownership Based AccessControl For Rasters: null
Child Resources:
Info
Histograms
Statistics
Key Properties
Legend
Raster Function Infos
Supported Operations:
Export Image
Identify
Measure
Compute Histograms
Compute Statistics Histograms
Get Samples
Compute Class Statistics
Query Boundary
Compute Pixel Location
Compute Angles
Validate
Project