View In:
ArcGIS JavaScript
ArcGIS Online Map Viewer
ArcGIS Earth
Service Description: Roanoke_07Aug2024_12Z_7dayQPF_tif
Name: Roanoke_07Aug2024_12Z_7dayQPF_tif
Description:
Single Fused Map Cache: false
Extent:
XMin: 4465604.8803881
YMin: 5143271.7179187
XMax: 5642643.919394689
YMax: 5694796.735647013
Spatial Reference: 0
(0)
LatestVCSWkid(0)
Initial Extent:
XMin: 4465604.8803881
YMin: 5143271.7179187
XMax: 5642643.919394689
YMax: 5694796.735647013
Spatial Reference: 0
(0)
LatestVCSWkid(0)
Full Extent:
XMin: 4465604.8803881
YMin: 5143271.7179187
XMax: 5642643.919394689
YMax: 5694796.735647013
Spatial Reference: 0
(0)
LatestVCSWkid(0)
Pixel Size X: 107.69869512366996
Pixel Size Y: 107.69869512366995
Band Count: 1
Pixel Type: F32
RasterFunction Infos: {"rasterFunctionInfos": [{
"name": "None",
"description": "",
"help": ""
}]}
Mensuration Capabilities: Basic
Inspection Capabilities:
Has Histograms: true
Has Colormap: false
Has Multi Dimensions : false
Rendering Rule:
Min Scale: 0
Max Scale: 0
Copyright Text:
Service Data Type: esriImageServiceDataTypeGeneric
Min Values: 0.0010008811950684
Max Values: 99.737609863281
Mean Values: 7.6274617945173
Standard Deviation Values: 6.5792348661484
Object ID Field:
Fields:
None
Default Mosaic Method: Center
Allowed Mosaic Methods:
SortField:
SortValue: null
Mosaic Operator: First
Default Compression Quality: 75
Default Resampling Method: Bilinear
Max Record Count: null
Max Image Height: 4100
Max Image Width: 15000
Max Download Image Count: null
Max Mosaic Image Count: null
Allow Raster Function: true
Allow Copy: true
Allow Analysis: true
Allow Compute TiePoints: false
Supports Statistics: false
Supports Advanced Queries: false
Use StandardizedQueries: true
Raster Type Infos:
Name: Raster Dataset
Description: Supports all ArcGIS Raster Datasets
Help:
Has Raster Attribute Table: false
Edit Fields Info: null
Ownership Based AccessControl For Rasters: null
Child Resources:
Info
Histograms
Statistics
Key Properties
Legend
Raster Function Infos
Supported Operations:
Export Image
Identify
Measure
Compute Histograms
Compute Statistics Histograms
Get Samples
Compute Class Statistics
Query Boundary
Compute Pixel Location
Compute Angles
Validate
Project