View In:
ArcGIS JavaScript
ArcGIS Online Map Viewer
ArcGIS Earth
Service Description: PeeDee_08Aug2024_12Z_7dayQPF_tif
Name: PeeDee_08Aug2024_12Z_7dayQPF_tif
Description:
Single Fused Map Cache: false
Extent:
XMin: 4165185.3175659
YMin: 4087575.938541295
XMax: 5385155.317565899
YMax: 5350660.938541295
Spatial Reference: 0
(0)
LatestVCSWkid(0)
Initial Extent:
XMin: 4165185.3175659
YMin: 4087575.938541295
XMax: 5385155.317565899
YMax: 5350660.938541295
Spatial Reference: 0
(0)
LatestVCSWkid(0)
Full Extent:
XMin: 4165185.3175659
YMin: 4087575.938541295
XMax: 5385155.317565899
YMax: 5350660.938541295
Spatial Reference: 0
(0)
LatestVCSWkid(0)
Pixel Size X: 4.999999999999998
Pixel Size Y: 5.0
Band Count: 1
Pixel Type: F32
RasterFunction Infos: {"rasterFunctionInfos": [{
"name": "None",
"description": "",
"help": ""
}]}
Mensuration Capabilities: Basic
Inspection Capabilities:
Has Histograms: true
Has Colormap: false
Has Multi Dimensions : false
Rendering Rule:
Min Scale: 0
Max Scale: 0
Copyright Text:
Service Data Type: esriImageServiceDataTypeGeneric
Min Values: 9.765625E-4
Max Values: 210.70153808594
Mean Values: 5.093220100948
Standard Deviation Values: 5.3340090660675
Object ID Field:
Fields:
None
Default Mosaic Method: Center
Allowed Mosaic Methods:
SortField:
SortValue: null
Mosaic Operator: First
Default Compression Quality: 75
Default Resampling Method: Bilinear
Max Record Count: null
Max Image Height: 4100
Max Image Width: 15000
Max Download Image Count: null
Max Mosaic Image Count: null
Allow Raster Function: true
Allow Copy: true
Allow Analysis: true
Allow Compute TiePoints: false
Supports Statistics: false
Supports Advanced Queries: false
Use StandardizedQueries: true
Raster Type Infos:
Name: Raster Dataset
Description: Supports all ArcGIS Raster Datasets
Help:
Has Raster Attribute Table: false
Edit Fields Info: null
Ownership Based AccessControl For Rasters: null
Child Resources:
Info
Histograms
Statistics
Key Properties
Legend
Raster Function Infos
Supported Operations:
Export Image
Identify
Measure
Compute Histograms
Compute Statistics Histograms
Get Samples
Compute Class Statistics
Query Boundary
Compute Pixel Location
Compute Angles
Validate
Project