View In:
ArcGIS JavaScript
ArcGIS Online Map Viewer
ArcGIS Earth
Service Description: Pearl_River_RIM_Forecast_19JUN2026
Name: Pearl_River_RIM_Forecast_19JUN2026
Description:
Single Fused Map Cache: false
Extent:
XMin: -90.3280083308153
YMin: 30.13279097906133
XMax: -89.43101932902267
YMax: 31.445278805460443
Spatial Reference: 4326
(4326)
LatestVCSWkid(0)
Initial Extent:
XMin: -90.3280083308153
YMin: 30.13279097906133
XMax: -89.43101932902267
YMax: 31.445278805460443
Spatial Reference: 4326
(4326)
LatestVCSWkid(0)
Full Extent:
XMin: -90.3280083308153
YMin: 30.13279097906133
XMax: -89.43101932902267
YMax: 31.445278805460443
Spatial Reference: 4326
(4326)
LatestVCSWkid(0)
Pixel Size X: 2.055805376312383E-5
Pixel Size Y: 2.055805376312381E-5
Band Count: 1
Pixel Type: F32
RasterFunction Infos: {"rasterFunctionInfos": [{
"name": "None",
"description": "",
"help": ""
}]}
Mensuration Capabilities: Basic
Inspection Capabilities:
Has Histograms: true
Has Colormap: false
Has Multi Dimensions : false
Rendering Rule:
Min Scale: 0
Max Scale: 0
Copyright Text:
Service Data Type: esriImageServiceDataTypeGeneric
Min Values: 9.9945068359375E-4
Max Values: 28.348739624023
Mean Values: 3.80439125057
Standard Deviation Values: 3.0802980415536
Object ID Field:
Fields:
None
Default Mosaic Method: Center
Allowed Mosaic Methods:
SortField:
SortValue: null
Mosaic Operator: First
Default Compression Quality: 75
Default Resampling Method: Bilinear
Max Record Count: null
Max Image Height: 4100
Max Image Width: 15000
Max Download Image Count: null
Max Mosaic Image Count: null
Allow Raster Function: true
Allow Copy: true
Allow Analysis: true
Allow Compute TiePoints: false
Supports Statistics: false
Supports Advanced Queries: false
Use StandardizedQueries: true
Raster Type Infos:
Name: Raster Dataset
Description: Supports all ArcGIS Raster Datasets
Help:
Has Raster Attribute Table: false
Edit Fields Info: null
Ownership Based AccessControl For Rasters: null
Child Resources:
Info
Histograms
Statistics
Key Properties
Legend
Raster Function Infos
Supported Operations:
Export Image
Identify
Measure
Compute Histograms
Compute Statistics Histograms
Get Samples
Compute Class Statistics
Query Boundary
Compute Pixel Location
Compute Angles
Validate
Project