View In:
ArcGIS JavaScript
ArcGIS Online Map Viewer
ArcGIS Earth
Service Description: Pearl_River_Forecast_22Jun2026
Name: Pearl_River_Forecast_22Jun2026
Description:
Single Fused Map Cache: false
Extent:
XMin: -90.35304804029879
YMin: 30.13279097906133
XMax: -89.43101932902269
YMax: 32.4793900258531
Spatial Reference: 4326
(4326)
VCSWkid(105703)
LatestVCSWkid(6360)
Initial Extent:
XMin: -90.35304804029879
YMin: 30.13279097906133
XMax: -89.43101932902269
YMax: 32.4793900258531
Spatial Reference: 4326
(4326)
VCSWkid(105703)
LatestVCSWkid(6360)
Full Extent:
XMin: -90.35304804029879
YMin: 30.13279097906133
XMax: -89.43101932902269
YMax: 32.4793900258531
Spatial Reference: 4326
(4326)
VCSWkid(105703)
LatestVCSWkid(6360)
Pixel Size X: 2.0558053763123712E-5
Pixel Size Y: 2.0558053763123834E-5
Band Count: 1
Pixel Type: F32
RasterFunction Infos: {"rasterFunctionInfos": [{
"name": "None",
"description": "",
"help": ""
}]}
Mensuration Capabilities: Basic
Inspection Capabilities:
Has Histograms: false
Has Colormap: false
Has Multi Dimensions : false
Rendering Rule:
Min Scale: 0
Max Scale: 0
Copyright Text:
Service Data Type: esriImageServiceDataTypeGeneric
Min Values: 9.9945068359375E-4
Max Values: 83.306121826172
Mean Values: 4.5820421343005
Standard Deviation Values: 4.1404370720359
Object ID Field:
Fields:
None
Default Mosaic Method: Center
Allowed Mosaic Methods:
SortField:
SortValue: null
Mosaic Operator: First
Default Compression Quality: 75
Default Resampling Method: Bilinear
Max Record Count: null
Max Image Height: 4100
Max Image Width: 15000
Max Download Image Count: null
Max Mosaic Image Count: null
Allow Raster Function: true
Allow Copy: true
Allow Analysis: true
Allow Compute TiePoints: false
Supports Statistics: false
Supports Advanced Queries: false
Use StandardizedQueries: true
Raster Type Infos:
Name: Raster Dataset
Description: Supports all ArcGIS Raster Datasets
Help:
Has Raster Attribute Table: false
Edit Fields Info: null
Ownership Based AccessControl For Rasters: null
Child Resources:
Info
Statistics
Key Properties
Legend
Raster Function Infos
Supported Operations:
Export Image
Identify
Measure
Compute Histograms
Compute Statistics Histograms
Get Samples
Compute Class Statistics
Query Boundary
Compute Pixel Location
Compute Angles
Validate
Project