View In:
ArcGIS JavaScript
ArcGIS Online Map Viewer
ArcGIS Earth
Service Description: Ogeechee_07Aug2024_12Z_7dayQPF_tif
Name: Ogeechee_07Aug2024_12Z_7dayQPF_tif
Description:
Single Fused Map Cache: false
Extent:
XMin: 3882601.9368408504
YMin: 3354084.3122405396
XMax: 4673581.144069739
YMax: 4118547.4790958953
Spatial Reference: 0
(0)
LatestVCSWkid(0)
Initial Extent:
XMin: 3882601.9368408504
YMin: 3354084.3122405396
XMax: 4673581.144069739
YMax: 4118547.4790958953
Spatial Reference: 0
(0)
LatestVCSWkid(0)
Full Extent:
XMin: 3882601.9368408504
YMin: 3354084.3122405396
XMax: 4673581.144069739
YMax: 4118547.4790958953
Spatial Reference: 0
(0)
LatestVCSWkid(0)
Pixel Size X: 38.15257607702529
Pixel Size Y: 38.15257607702529
Band Count: 1
Pixel Type: F32
RasterFunction Infos: {"rasterFunctionInfos": [{
"name": "None",
"description": "",
"help": ""
}]}
Mensuration Capabilities: Basic
Inspection Capabilities:
Has Histograms: true
Has Colormap: false
Has Multi Dimensions : false
Rendering Rule:
Min Scale: 0
Max Scale: 0
Copyright Text:
Service Data Type: esriImageServiceDataTypeGeneric
Min Values: 9.765625E-4
Max Values: 35.027801513672
Mean Values: 3.5573823544721
Standard Deviation Values: 2.8152397208104
Object ID Field:
Fields:
None
Default Mosaic Method: Center
Allowed Mosaic Methods:
SortField:
SortValue: null
Mosaic Operator: First
Default Compression Quality: 75
Default Resampling Method: Bilinear
Max Record Count: null
Max Image Height: 4100
Max Image Width: 15000
Max Download Image Count: null
Max Mosaic Image Count: null
Allow Raster Function: true
Allow Copy: true
Allow Analysis: true
Allow Compute TiePoints: false
Supports Statistics: false
Supports Advanced Queries: false
Use StandardizedQueries: true
Raster Type Infos:
Name: Raster Dataset
Description: Supports all ArcGIS Raster Datasets
Help:
Has Raster Attribute Table: false
Edit Fields Info: null
Ownership Based AccessControl For Rasters: null
Child Resources:
Info
Histograms
Statistics
Key Properties
Legend
Raster Function Infos
Supported Operations:
Export Image
Identify
Measure
Compute Histograms
Compute Statistics Histograms
Get Samples
Compute Class Statistics
Query Boundary
Compute Pixel Location
Compute Angles
Validate
Project