View In:
ArcGIS JavaScript
ArcGIS Online Map Viewer
ArcGIS Earth
Service Description: Ochlockonee_27Sept2024_3dayQPE
Name: Ochlockonee_27Sept2024_3dayQPE
Description:
Single Fused Map Cache: false
Extent:
XMin: 3386146.6680531288
YMin: 2363813.493830852
XMax: 4147807.3502241867
YMax: 3528007.2925043087
Spatial Reference: 0
(0)
LatestVCSWkid(0)
Initial Extent:
XMin: 3386146.6680531288
YMin: 2363813.493830852
XMax: 4147807.3502241867
YMax: 3528007.2925043087
Spatial Reference: 0
(0)
LatestVCSWkid(0)
Full Extent:
XMin: 3386146.6680531288
YMin: 2363813.493830852
XMax: 4147807.3502241867
YMax: 3528007.2925043087
Spatial Reference: 0
(0)
LatestVCSWkid(0)
Pixel Size X: 35.578320355524006
Pixel Size Y: 35.578320355524006
Band Count: 1
Pixel Type: F32
RasterFunction Infos: {"rasterFunctionInfos": [{
"name": "None",
"description": "",
"help": ""
}]}
Mensuration Capabilities: Basic
Inspection Capabilities:
Has Histograms: true
Has Colormap: false
Has Multi Dimensions : false
Rendering Rule:
Min Scale: 0
Max Scale: 0
Copyright Text:
Service Data Type: esriImageServiceDataTypeGeneric
Min Values: 9.9945068359375E-4
Max Values: 41.046089172363
Mean Values: 4.3500131845349
Standard Deviation Values: 3.7626116031901
Object ID Field:
Fields:
None
Default Mosaic Method: Center
Allowed Mosaic Methods:
SortField:
SortValue: null
Mosaic Operator: First
Default Compression Quality: 75
Default Resampling Method: Bilinear
Max Record Count: null
Max Image Height: 4100
Max Image Width: 15000
Max Download Image Count: null
Max Mosaic Image Count: null
Allow Raster Function: true
Allow Copy: true
Allow Analysis: true
Allow Compute TiePoints: false
Supports Statistics: false
Supports Advanced Queries: false
Use StandardizedQueries: true
Raster Type Infos:
Name: Raster Dataset
Description: Supports all ArcGIS Raster Datasets
Help:
Has Raster Attribute Table: false
Edit Fields Info: null
Ownership Based AccessControl For Rasters: null
Child Resources:
Info
Histograms
Statistics
Key Properties
Legend
Raster Function Infos
Supported Operations:
Export Image
Identify
Measure
Compute Histograms
Compute Statistics Histograms
Get Samples
Compute Class Statistics
Query Boundary
Compute Pixel Location
Compute Angles
Validate
Project