View In:
ArcGIS JavaScript
ArcGIS Online Map Viewer
ArcGIS Earth
Service Description: Obion_ForkedDeer_01April2025_
Name: Obion_ForkedDeer_01April2025_
Description:
Single Fused Map Cache: false
Extent:
XMin: 1692788.3187796068
YMin: 4586426.351167821
XMax: 2202878.318779607
YMax: 5047496.351167821
Spatial Reference: 0
(0)
LatestVCSWkid(0)
Initial Extent:
XMin: 1692788.3187796068
YMin: 4586426.351167821
XMax: 2202878.318779607
YMax: 5047496.351167821
Spatial Reference: 0
(0)
LatestVCSWkid(0)
Full Extent:
XMin: 1692788.3187796068
YMin: 4586426.351167821
XMax: 2202878.318779607
YMax: 5047496.351167821
Spatial Reference: 0
(0)
LatestVCSWkid(0)
Pixel Size X: 30.0
Pixel Size Y: 30.0
Band Count: 1
Pixel Type: F32
RasterFunction Infos: {"rasterFunctionInfos": [{
"name": "None",
"description": "",
"help": ""
}]}
Mensuration Capabilities: Basic
Inspection Capabilities:
Has Histograms: true
Has Colormap: false
Has Multi Dimensions : false
Rendering Rule:
Min Scale: 0
Max Scale: 0
Copyright Text:
Service Data Type: esriImageServiceDataTypeGeneric
Min Values: 0.001007080078125
Max Values: 31.295989990234
Mean Values: 5.9648460019952
Standard Deviation Values: 6.2771117392414
Object ID Field:
Fields:
None
Default Mosaic Method: Center
Allowed Mosaic Methods:
SortField:
SortValue: null
Mosaic Operator: First
Default Compression Quality: 75
Default Resampling Method: Bilinear
Max Record Count: null
Max Image Height: 4100
Max Image Width: 15000
Max Download Image Count: null
Max Mosaic Image Count: null
Allow Raster Function: true
Allow Copy: true
Allow Analysis: true
Allow Compute TiePoints: false
Supports Statistics: false
Supports Advanced Queries: false
Use StandardizedQueries: true
Raster Type Infos:
Name: Raster Dataset
Description: Supports all ArcGIS Raster Datasets
Help:
Has Raster Attribute Table: false
Edit Fields Info: null
Ownership Based AccessControl For Rasters: null
Child Resources:
Info
Histograms
Statistics
Key Properties
Legend
Raster Function Infos
Supported Operations:
Export Image
Identify
Measure
Compute Histograms
Compute Statistics Histograms
Get Samples
Compute Class Statistics
Query Boundary
Compute Pixel Location
Compute Angles
Validate
Project