View In:
ArcGIS JavaScript
ArcGIS Online Map Viewer
ArcGIS Earth
Service Description: Missouri_River_2019_Flood_March_Maximum
Name: Missouri_River_2019_Flood_March_Maximum
Description:
Single Fused Map Cache: false
Extent:
XMin: -95.6040559843611
YMin: 39.06577140219386
XMax: -94.54741808029335
YMax: 40.310262606406326
Spatial Reference: 4326
(4326)
LatestVCSWkid(0)
Initial Extent:
XMin: -95.6040559843611
YMin: 39.06577140219386
XMax: -94.54741808029335
YMax: 40.310262606406326
Spatial Reference: 4326
(4326)
LatestVCSWkid(0)
Full Extent:
XMin: -95.6040559843611
YMin: 39.06577140219386
XMax: -94.54741808029335
YMax: 40.310262606406326
Spatial Reference: 4326
(4326)
LatestVCSWkid(0)
Pixel Size X: 2.952739706770272E-5
Pixel Size Y: 2.95273970677027E-5
Band Count: 1
Pixel Type: F32
RasterFunction Infos: {"rasterFunctionInfos": [{
"name": "None",
"description": "",
"help": ""
}]}
Mensuration Capabilities: Basic
Inspection Capabilities:
Has Histograms: false
Has Colormap: false
Has Multi Dimensions : false
Rendering Rule:
Min Scale: 0
Max Scale: 0
Copyright Text:
Service Data Type: esriImageServiceDataTypeGeneric
Min Values: 9.765625E-4
Max Values: 64.430419921875
Mean Values: 10.14015686068
Standard Deviation Values: 8.8103879666336
Object ID Field:
Fields:
None
Default Mosaic Method: Center
Allowed Mosaic Methods:
SortField:
SortValue: null
Mosaic Operator: First
Default Compression Quality: 75
Default Resampling Method: Bilinear
Max Record Count: null
Max Image Height: 4100
Max Image Width: 15000
Max Download Image Count: null
Max Mosaic Image Count: null
Allow Raster Function: true
Allow Copy: true
Allow Analysis: true
Allow Compute TiePoints: false
Supports Statistics: false
Supports Advanced Queries: false
Use StandardizedQueries: true
Raster Type Infos:
Name: Raster Dataset
Description: Supports all ArcGIS Raster Datasets
Help:
Has Raster Attribute Table: false
Edit Fields Info: null
Ownership Based AccessControl For Rasters: null
Child Resources:
Info
Statistics
Key Properties
Legend
Raster Function Infos
Supported Operations:
Export Image
Identify
Measure
Compute Histograms
Compute Statistics Histograms
Get Samples
Compute Class Statistics
Query Boundary
Compute Pixel Location
Compute Angles
Validate
Project