View In:
ArcGIS JavaScript
ArcGIS Online Map Viewer
ArcGIS Earth
Service Description: Mississippi_River_28April2025
Name: Mississippi_River_28April2025
Description:
Single Fused Map Cache: false
Extent:
XMin: 1029114.4461473398
YMin: 2289853.103620661
XMax: 2173146.4461473394
YMax: 4757061.74362066
Spatial Reference: 0
(0)
LatestVCSWkid(0)
Initial Extent:
XMin: 1029114.4461473398
YMin: 2289853.103620661
XMax: 2173146.4461473394
YMax: 4757061.74362066
Spatial Reference: 0
(0)
LatestVCSWkid(0)
Full Extent:
XMin: 1029114.4461473398
YMin: 2289853.103620661
XMax: 2173146.4461473394
YMax: 4757061.74362066
Spatial Reference: 0
(0)
LatestVCSWkid(0)
Pixel Size X: 16.319999999999993
Pixel Size Y: 16.319999999999993
Band Count: 1
Pixel Type: F32
RasterFunction Infos: {"rasterFunctionInfos": [{
"name": "None",
"description": "",
"help": ""
}]}
Mensuration Capabilities: Basic
Inspection Capabilities:
Has Histograms: true
Has Colormap: false
Has Multi Dimensions : false
Rendering Rule:
Min Scale: 0
Max Scale: 0
Copyright Text:
Service Data Type: esriImageServiceDataTypeGeneric
Min Values: 9.9945068359375E-4
Max Values: 213.80284118652
Mean Values: 20.289030007997
Standard Deviation Values: 21.802063829419
Object ID Field:
Fields:
None
Default Mosaic Method: Center
Allowed Mosaic Methods:
SortField:
SortValue: null
Mosaic Operator: First
Default Compression Quality: 75
Default Resampling Method: Bilinear
Max Record Count: null
Max Image Height: 4100
Max Image Width: 15000
Max Download Image Count: null
Max Mosaic Image Count: null
Allow Raster Function: true
Allow Copy: true
Allow Analysis: true
Allow Compute TiePoints: false
Supports Statistics: false
Supports Advanced Queries: false
Use StandardizedQueries: true
Raster Type Infos:
Name: Raster Dataset
Description: Supports all ArcGIS Raster Datasets
Help:
Has Raster Attribute Table: false
Edit Fields Info: null
Ownership Based AccessControl For Rasters: null
Child Resources:
Info
Histograms
Statistics
Key Properties
Legend
Raster Function Infos
Supported Operations:
Export Image
Identify
Measure
Compute Histograms
Compute Statistics Histograms
Get Samples
Compute Class Statistics
Query Boundary
Compute Pixel Location
Compute Angles
Validate
Project