View In:
ArcGIS JavaScript
ArcGIS Online Map Viewer
ArcGIS Earth
Service Description: Meramec_03April2025
Name: Meramec_03April2025
Description:
Single Fused Map Cache: false
Extent:
XMin: 1512437.9189070568
YMin: 5640884.674515961
XMax: 1614347.1639070564
YMax: 5723348.420349293
Spatial Reference: 0
(0)
LatestVCSWkid(0)
Initial Extent:
XMin: 1512437.9189070568
YMin: 5640884.674515961
XMax: 1614347.1639070564
YMax: 5723348.420349293
Spatial Reference: 0
(0)
LatestVCSWkid(0)
Full Extent:
XMin: 1512437.9189070568
YMin: 5640884.674515961
XMax: 1614347.1639070564
YMax: 5723348.420349293
Spatial Reference: 0
(0)
LatestVCSWkid(0)
Pixel Size X: 3.2808333333333217
Pixel Size Y: 3.280833333333306
Band Count: 1
Pixel Type: F32
RasterFunction Infos: {"rasterFunctionInfos": [{
"name": "None",
"description": "",
"help": ""
}]}
Mensuration Capabilities: Basic
Inspection Capabilities:
Has Histograms: true
Has Colormap: false
Has Multi Dimensions : false
Rendering Rule:
Min Scale: 0
Max Scale: 0
Copyright Text:
Service Data Type: esriImageServiceDataTypeGeneric
Min Values: 0.001007080078125
Max Values: 46.811218261719
Mean Values: 12.0161332923
Standard Deviation Values: 9.0922438912001
Object ID Field:
Fields:
None
Default Mosaic Method: Center
Allowed Mosaic Methods:
SortField:
SortValue: null
Mosaic Operator: First
Default Compression Quality: 75
Default Resampling Method: Bilinear
Max Record Count: null
Max Image Height: 4100
Max Image Width: 15000
Max Download Image Count: null
Max Mosaic Image Count: null
Allow Raster Function: true
Allow Copy: true
Allow Analysis: true
Allow Compute TiePoints: false
Supports Statistics: false
Supports Advanced Queries: false
Use StandardizedQueries: true
Raster Type Infos:
Name: Raster Dataset
Description: Supports all ArcGIS Raster Datasets
Help:
Has Raster Attribute Table: false
Edit Fields Info: null
Ownership Based AccessControl For Rasters: null
Child Resources:
Info
Histograms
Statistics
Key Properties
Legend
Raster Function Infos
Supported Operations:
Export Image
Identify
Measure
Compute Histograms
Compute Statistics Histograms
Get Samples
Compute Class Statistics
Query Boundary
Compute Pixel Location
Compute Angles
Validate
Project