View In:
ArcGIS JavaScript
ArcGIS Online Map Viewer
ArcGIS Earth
Service Description: Lower_Pascagoula_River_Rapid2D_Forecast_17Jun2026_tif
Name: Lower_Pascagoula_River_Rapid2D_Forecast_17Jun2026_tif
Description:
Single Fused Map Cache: false
Extent:
XMin: 1806309.3700797216
YMin: 2572519.015763453
XMax: 2541988.5274797217
YMax: 3508247.392163453
Spatial Reference: 0
(0)
LatestVCSWkid(0)
Initial Extent:
XMin: 1806309.3700797216
YMin: 2572519.015763453
XMax: 2541988.5274797217
YMax: 3508247.392163453
Spatial Reference: 0
(0)
LatestVCSWkid(0)
Full Extent:
XMin: 1806309.3700797216
YMin: 2572519.015763453
XMax: 2541988.5274797217
YMax: 3508247.392163453
Spatial Reference: 0
(0)
LatestVCSWkid(0)
Pixel Size X: 9.842520000000002
Pixel Size Y: 9.842519999999999
Band Count: 1
Pixel Type: F32
RasterFunction Infos: {"rasterFunctionInfos": [{
"name": "None",
"description": "",
"help": ""
}]}
Mensuration Capabilities: Basic
Inspection Capabilities:
Has Histograms: false
Has Colormap: false
Has Multi Dimensions : false
Rendering Rule:
Min Scale: 0
Max Scale: 0
Copyright Text:
Service Data Type: esriImageServiceDataTypeGeneric
Min Values: 9.9945068359375E-4
Max Values: 118.469299316406
Mean Values: 4.89805577693321
Standard Deviation Values: 4.38411994199553
Object ID Field:
Fields:
None
Default Mosaic Method: Center
Allowed Mosaic Methods:
SortField:
SortValue: null
Mosaic Operator: First
Default Compression Quality: 75
Default Resampling Method: Bilinear
Max Record Count: null
Max Image Height: 4100
Max Image Width: 15000
Max Download Image Count: null
Max Mosaic Image Count: null
Allow Raster Function: true
Allow Copy: true
Allow Analysis: true
Allow Compute TiePoints: false
Supports Statistics: false
Supports Advanced Queries: false
Use StandardizedQueries: true
Raster Type Infos:
Name: Raster Dataset
Description: Supports all ArcGIS Raster Datasets
Help:
Has Raster Attribute Table: false
Edit Fields Info: null
Ownership Based AccessControl For Rasters: null
Child Resources:
Info
Statistics
Key Properties
Legend
Raster Function Infos
Supported Operations:
Export Image
Identify
Measure
Compute Histograms
Compute Statistics Histograms
Get Samples
Compute Class Statistics
Query Boundary
Compute Pixel Location
Compute Angles
Validate
Project