View In:
ArcGIS JavaScript
ArcGIS Online Map Viewer
ArcGIS Earth
Service Description: Loosahatchie_03April2025
Name: Loosahatchie_03April2025
Description:
Single Fused Map Cache: false
Extent:
XMin: 1750944.1926493112
YMin: 4467083.769468474
XMax: 2033945.595149313
YMax: 4614898.434468475
Spatial Reference: 0
(0)
LatestVCSWkid(0)
Initial Extent:
XMin: 1750944.1926493112
YMin: 4467083.769468474
XMax: 2033945.595149313
YMax: 4614898.434468475
Spatial Reference: 0
(0)
LatestVCSWkid(0)
Full Extent:
XMin: 1750944.1926493112
YMin: 4467083.769468474
XMax: 2033945.595149313
YMax: 4614898.434468475
Spatial Reference: 0
(0)
LatestVCSWkid(0)
Pixel Size X: 9.842500000000067
Pixel Size Y: 9.842500000000065
Band Count: 1
Pixel Type: F32
RasterFunction Infos: {"rasterFunctionInfos": [{
"name": "None",
"description": "",
"help": ""
}]}
Mensuration Capabilities: Basic
Inspection Capabilities:
Has Histograms: true
Has Colormap: false
Has Multi Dimensions : false
Rendering Rule:
Min Scale: 0
Max Scale: 0
Copyright Text:
Service Data Type: esriImageServiceDataTypeGeneric
Min Values: 0.001007080078125
Max Values: 30.809616088867
Mean Values: 4.3156597197709
Standard Deviation Values: 3.423529372691
Object ID Field:
Fields:
None
Default Mosaic Method: Center
Allowed Mosaic Methods:
SortField:
SortValue: null
Mosaic Operator: First
Default Compression Quality: 75
Default Resampling Method: Bilinear
Max Record Count: null
Max Image Height: 4100
Max Image Width: 15000
Max Download Image Count: null
Max Mosaic Image Count: null
Allow Raster Function: true
Allow Copy: true
Allow Analysis: true
Allow Compute TiePoints: false
Supports Statistics: false
Supports Advanced Queries: false
Use StandardizedQueries: true
Raster Type Infos:
Name: Raster Dataset
Description: Supports all ArcGIS Raster Datasets
Help:
Has Raster Attribute Table: false
Edit Fields Info: null
Ownership Based AccessControl For Rasters: null
Child Resources:
Info
Histograms
Statistics
Key Properties
Legend
Raster Function Infos
Supported Operations:
Export Image
Identify
Measure
Compute Histograms
Compute Statistics Histograms
Get Samples
Compute Class Statistics
Query Boundary
Compute Pixel Location
Compute Angles
Validate
Project