View In:
ArcGIS JavaScript
ArcGIS Online Map Viewer
ArcGIS Earth
Service Description: Lindsey_Creek_100yr
Name: Lindsey_Creek_100yr
Description:
Single Fused Map Cache: false
Extent:
XMin: -90.46450128809478
YMin: 32.21541155881178
XMax: -89.95112954230568
YMax: 32.520684141537906
Spatial Reference: 4326
(4326)
LatestVCSWkid(0)
Initial Extent:
XMin: -90.46450128809478
YMin: 32.21541155881178
XMax: -89.95112954230568
YMax: 32.520684141537906
Spatial Reference: 4326
(4326)
LatestVCSWkid(0)
Full Extent:
XMin: -90.46450128809478
YMin: 32.21541155881178
XMax: -89.95112954230568
YMax: 32.520684141537906
Spatial Reference: 4326
(4326)
LatestVCSWkid(0)
Pixel Size X: 3.0855561446402547E-6
Pixel Size Y: 3.0855561446402276E-6
Band Count: 1
Pixel Type: F32
RasterFunction Infos: {"rasterFunctionInfos": [{
"name": "None",
"description": "",
"help": ""
}]}
Mensuration Capabilities: Basic
Inspection Capabilities:
Has Histograms: true
Has Colormap: false
Has Multi Dimensions : false
Rendering Rule:
Min Scale: 0
Max Scale: 0
Copyright Text:
Service Data Type: esriImageServiceDataTypeGeneric
Min Values: 0.001007080078125
Max Values: 54.76139831543
Mean Values: 2.6094681786382
Standard Deviation Values: 2.0347462291118
Object ID Field:
Fields:
None
Default Mosaic Method: Center
Allowed Mosaic Methods:
SortField:
SortValue: null
Mosaic Operator: First
Default Compression Quality: 75
Default Resampling Method: Bilinear
Max Record Count: null
Max Image Height: 4100
Max Image Width: 15000
Max Download Image Count: null
Max Mosaic Image Count: null
Allow Raster Function: true
Allow Copy: true
Allow Analysis: true
Allow Compute TiePoints: false
Supports Statistics: false
Supports Advanced Queries: false
Use StandardizedQueries: true
Raster Type Infos:
Name: Raster Dataset
Description: Supports all ArcGIS Raster Datasets
Help:
Has Raster Attribute Table: false
Edit Fields Info: null
Ownership Based AccessControl For Rasters: null
Child Resources:
Info
Histograms
Statistics
Key Properties
Legend
Raster Function Infos
Supported Operations:
Export Image
Identify
Measure
Compute Histograms
Compute Statistics Histograms
Get Samples
Compute Class Statistics
Query Boundary
Compute Pixel Location
Compute Angles
Validate
Project