View In:
ArcGIS JavaScript
ArcGIS Online Map Viewer
ArcGIS Earth
Service Description: Kansas_River_May_Maximum_Flood_Extent_2019
Name: Kansas_River_May_Maximum_Flood_Extent_2019
Description:
Single Fused Map Cache: false
Extent:
XMin: -324288.59941364
YMin: 5742261.1633411
XMax: 403977.3027158143
YMax: 5959639.321641732
Spatial Reference: 0
(0)
LatestVCSWkid(0)
Initial Extent:
XMin: -324288.59941364
YMin: 5742261.1633411
XMax: 403977.3027158143
YMax: 5959639.321641732
Spatial Reference: 0
(0)
LatestVCSWkid(0)
Full Extent:
XMin: -324288.59941364
YMin: 5742261.1633411
XMax: 403977.3027158143
YMax: 5959639.321641732
Spatial Reference: 0
(0)
LatestVCSWkid(0)
Pixel Size X: 10.014657620042001
Pixel Size Y: 10.014657620042001
Band Count: 1
Pixel Type: F32
RasterFunction Infos: {"rasterFunctionInfos": [{
"name": "None",
"description": "",
"help": ""
}]}
Mensuration Capabilities: Basic
Inspection Capabilities:
Has Histograms: false
Has Colormap: false
Has Multi Dimensions : false
Rendering Rule:
Min Scale: 0
Max Scale: 0
Copyright Text:
Service Data Type: esriImageServiceDataTypeGeneric
Min Values: 9.765625E-4
Max Values: 31.3416748046875
Mean Values: 8.35944960316652
Standard Deviation Values: 6.41560294294339
Object ID Field:
Fields:
None
Default Mosaic Method: Center
Allowed Mosaic Methods:
SortField:
SortValue: null
Mosaic Operator: First
Default Compression Quality: 75
Default Resampling Method: Bilinear
Max Record Count: null
Max Image Height: 4100
Max Image Width: 15000
Max Download Image Count: null
Max Mosaic Image Count: null
Allow Raster Function: true
Allow Copy: true
Allow Analysis: true
Allow Compute TiePoints: false
Supports Statistics: false
Supports Advanced Queries: false
Use StandardizedQueries: true
Raster Type Infos:
Name: Raster Dataset
Description: Supports all ArcGIS Raster Datasets
Help:
Has Raster Attribute Table: false
Edit Fields Info: null
Ownership Based AccessControl For Rasters: null
Child Resources:
Info
Statistics
Key Properties
Legend
Raster Function Infos
Supported Operations:
Export Image
Identify
Measure
Compute Histograms
Compute Statistics Histograms
Get Samples
Compute Class Statistics
Query Boundary
Compute Pixel Location
Compute Angles
Validate
Project