View In:
ArcGIS JavaScript
ArcGIS Online Map Viewer
ArcGIS Earth
Service Description: Hosted/stono_inlet_20230304_8band_1030_04_p006_scspintf
Name: Hosted/stono_inlet_20230304_8band_1030_04_p006_scspintf
Description:
Single Fused Map Cache: false
Extent:
XMin: 2287367
YMin: 263654.0000000001
XMax: 2328995
YMax: 295484.0000000001
Spatial Reference: 2273
(2273)
Initial Extent:
XMin: 2287367
YMin: 263654.0000000001
XMax: 2328995
YMax: 295484.0000000001
Spatial Reference: 2273
(2273)
Full Extent:
XMin: 2287367
YMin: 263654.0000000001
XMax: 2328995
YMax: 295484.0000000001
Spatial Reference: 2273
(2273)
Pixel Size X: 6.0
Pixel Size Y: 6.0
Band Count: 8
Pixel Type: U8
RasterFunction Infos: {"rasterFunctionInfos": [{
"name": "None",
"description": "",
"help": ""
}]}
Mensuration Capabilities: Basic
Inspection Capabilities:
Has Histograms: false
Has Colormap: false
Has Multi Dimensions : false
Rendering Rule:
Min Scale: 0
Max Scale: 0
Copyright Text:
Service Data Type: esriImageServiceDataTypeGeneric
Min Values: 0, 0, 0, 0, 0, 0, 0, 0
Max Values: 255, 255, 255, 255, 255, 255, 255, 255
Mean Values: 28.176421048807, 32.446368848206, 46.406285372886, 27.044228088344, 27.023581858326, 19.665368747401, 21.83924755387, 13.109754309681
Standard Deviation Values: 3.084112729926, 7.0693622375044, 11.163386881138, 7.6726560583587, 7.6579333633226, 6.5368311382279, 11.187255760109, 7.8656805045252
Object ID Field:
Fields:
None
Default Mosaic Method: Center
Allowed Mosaic Methods:
SortField:
SortValue: null
Mosaic Operator: First
Default Compression Quality: 75
Default Resampling Method: Bilinear
Max Record Count: null
Max Image Height: 4100
Max Image Width: 15000
Max Download Image Count: null
Max Mosaic Image Count: null
Allow Raster Function: true
Allow Copy: true
Allow Analysis: true
Allow Compute TiePoints: false
Supports Statistics: false
Supports Advanced Queries: false
Use StandardizedQueries: true
Raster Type Infos:
Name: Raster Dataset
Description: Supports all ArcGIS Raster Datasets
Help:
Has Raster Attribute Table: false
Edit Fields Info: null
Ownership Based AccessControl For Rasters: null
Child Resources:
Info
Statistics
Key Properties
Legend
Raster Function Infos
Supported Operations:
Export Image
Identify
Measure
Compute Histograms
Compute Statistics Histograms
Get Samples
Compute Class Statistics
Query Boundary
Compute Pixel Location
Compute Angles
Validate
Project