View In:
ArcGIS JavaScript
ArcGIS Online Map Viewer
ArcGIS Earth
Service Description: Hobolochitto_Rapid2D_Forecast_18Jun2026_run2
Name: Hobolochitto_Rapid2D_Forecast_18Jun2026_run2
Description:
Single Fused Map Cache: false
Extent:
XMin: 1676724.21880582
YMin: 2583833.56266883
XMax: 2211729.2188058197
YMax: 3511313.56266883
Spatial Reference: 0
(0)
LatestVCSWkid(0)
Initial Extent:
XMin: 1676724.21880582
YMin: 2583833.56266883
XMax: 2211729.2188058197
YMax: 3511313.56266883
Spatial Reference: 0
(0)
LatestVCSWkid(0)
Full Extent:
XMin: 1676724.21880582
YMin: 2583833.56266883
XMax: 2211729.2188058197
YMax: 3511313.56266883
Spatial Reference: 0
(0)
LatestVCSWkid(0)
Pixel Size X: 14.999999999999993
Pixel Size Y: 15.0
Band Count: 1
Pixel Type: F32
RasterFunction Infos: {"rasterFunctionInfos": [{
"name": "None",
"description": "",
"help": ""
}]}
Mensuration Capabilities: Basic
Inspection Capabilities:
Has Histograms: true
Has Colormap: false
Has Multi Dimensions : false
Rendering Rule:
Min Scale: 0
Max Scale: 0
Copyright Text:
Service Data Type: esriImageServiceDataTypeGeneric
Min Values: 9.9945068359375E-4
Max Values: 30.394073486328
Mean Values: 4.5431212304317
Standard Deviation Values: 3.5700419042085
Object ID Field:
Fields:
None
Default Mosaic Method: Center
Allowed Mosaic Methods:
SortField:
SortValue: null
Mosaic Operator: First
Default Compression Quality: 75
Default Resampling Method: Bilinear
Max Record Count: null
Max Image Height: 4100
Max Image Width: 15000
Max Download Image Count: null
Max Mosaic Image Count: null
Allow Raster Function: true
Allow Copy: true
Allow Analysis: true
Allow Compute TiePoints: false
Supports Statistics: false
Supports Advanced Queries: false
Use StandardizedQueries: true
Raster Type Infos:
Name: Raster Dataset
Description: Supports all ArcGIS Raster Datasets
Help:
Has Raster Attribute Table: false
Edit Fields Info: null
Ownership Based AccessControl For Rasters: null
Child Resources:
Info
Histograms
Statistics
Key Properties
Legend
Raster Function Infos
Supported Operations:
Export Image
Identify
Measure
Compute Histograms
Compute Statistics Histograms
Get Samples
Compute Class Statistics
Query Boundary
Compute Pixel Location
Compute Angles
Validate
Project