View In:
ArcGIS JavaScript
ArcGIS Online Map Viewer
ArcGIS Earth
Service Description: Green_Inundation_9DEC2025_Image_Server
Name: Green_Inundation_9DEC2025_Image_Server
Description:
Single Fused Map Cache: false
Extent:
XMin: -122.39059497107993
YMin: 47.205639904204624
XMax: -121.77395968400512
YMax: 47.62549756098057
Spatial Reference: 4326
(4326)
VCSWkid(105703)
LatestVCSWkid(6360)
Initial Extent:
XMin: -122.39059497107993
YMin: 47.205639904204624
XMax: -121.77395968400512
YMax: 47.62549756098057
Spatial Reference: 4326
(4326)
VCSWkid(105703)
LatestVCSWkid(6360)
Full Extent:
XMin: -122.39059497107993
YMin: 47.205639904204624
XMax: -121.77395968400512
YMax: 47.62549756098057
Spatial Reference: 4326
(4326)
VCSWkid(105703)
LatestVCSWkid(6360)
Pixel Size X: 1.2572847121517264E-5
Pixel Size Y: 1.2572847121517218E-5
Band Count: 1
Pixel Type: F32
RasterFunction Infos: {"rasterFunctionInfos": [{
"name": "None",
"description": "",
"help": ""
}]}
Mensuration Capabilities: Basic
Inspection Capabilities:
Has Histograms: true
Has Colormap: false
Has Multi Dimensions : false
Rendering Rule:
Min Scale: 0
Max Scale: 0
Copyright Text:
Service Data Type: esriImageServiceDataTypeGeneric
Min Values: 9.765625E-4
Max Values: 304.15625
Mean Values: 27.997742973191
Standard Deviation Values: 62.120278458134
Object ID Field:
Fields:
None
Default Mosaic Method: Center
Allowed Mosaic Methods:
SortField:
SortValue: null
Mosaic Operator: First
Default Compression Quality: 75
Default Resampling Method: Bilinear
Max Record Count: null
Max Image Height: 4100
Max Image Width: 15000
Max Download Image Count: null
Max Mosaic Image Count: null
Allow Raster Function: true
Allow Copy: true
Allow Analysis: true
Allow Compute TiePoints: false
Supports Statistics: false
Supports Advanced Queries: false
Use StandardizedQueries: true
Raster Type Infos:
Name: Raster Dataset
Description: Supports all ArcGIS Raster Datasets
Help:
Has Raster Attribute Table: false
Edit Fields Info: null
Ownership Based AccessControl For Rasters: null
Child Resources:
Info
Histograms
Statistics
Key Properties
Legend
Raster Function Infos
Supported Operations:
Export Image
Identify
Measure
Compute Histograms
Compute Statistics Histograms
Get Samples
Compute Class Statistics
Query Boundary
Compute Pixel Location
Compute Angles
Validate
Project