View In:
ArcGIS JavaScript
ArcGIS Online Map Viewer
ArcGIS Earth
Service Description: Altamaha_07Aug2024_12Z_QPE_tif
Name: Altamaha_07Aug2024_12Z_QPE_tif
Description:
Single Fused Map Cache: false
Extent:
XMin: 3259212.212643811
YMin: 3087074.40539072
XMax: 4666494.374504526
YMax: 4704064.55689773
Spatial Reference: 0
(0)
LatestVCSWkid(0)
Initial Extent:
XMin: 3259212.212643811
YMin: 3087074.40539072
XMax: 4666494.374504526
YMax: 4704064.55689773
Spatial Reference: 0
(0)
LatestVCSWkid(0)
Full Extent:
XMin: 3259212.212643811
YMin: 3087074.40539072
XMax: 4666494.374504526
YMax: 4704064.55689773
Spatial Reference: 0
(0)
LatestVCSWkid(0)
Pixel Size X: 31.17870794622286
Pixel Size Y: 31.178707946222858
Band Count: 1
Pixel Type: F32
RasterFunction Infos: {"rasterFunctionInfos": [{
"name": "None",
"description": "",
"help": ""
}]}
Mensuration Capabilities: Basic
Inspection Capabilities:
Has Histograms: true
Has Colormap: false
Has Multi Dimensions : false
Rendering Rule:
Min Scale: 0
Max Scale: 0
Copyright Text:
Service Data Type: esriImageServiceDataTypeGeneric
Min Values: 9.765625E-4
Max Values: 223.38525390625
Mean Values: 3.7801241879681
Standard Deviation Values: 3.4087647327841
Object ID Field:
Fields:
None
Default Mosaic Method: Center
Allowed Mosaic Methods:
SortField:
SortValue: null
Mosaic Operator: First
Default Compression Quality: 75
Default Resampling Method: Bilinear
Max Record Count: null
Max Image Height: 4100
Max Image Width: 15000
Max Download Image Count: null
Max Mosaic Image Count: null
Allow Raster Function: true
Allow Copy: true
Allow Analysis: true
Allow Compute TiePoints: false
Supports Statistics: false
Supports Advanced Queries: false
Use StandardizedQueries: true
Raster Type Infos:
Name: Raster Dataset
Description: Supports all ArcGIS Raster Datasets
Help:
Has Raster Attribute Table: false
Edit Fields Info: null
Ownership Based AccessControl For Rasters: null
Child Resources:
Info
Histograms
Statistics
Key Properties
Legend
Raster Function Infos
Supported Operations:
Export Image
Identify
Measure
Compute Histograms
Compute Statistics Histograms
Get Samples
Compute Class Statistics
Query Boundary
Compute Pixel Location
Compute Angles
Validate
Project