{
 "currentVersion": 11.3,
 "serviceDescription": "SCDNR_2017_DSM_3x3ft",
 "name": "SCDNR_2017_DSM_3x3ft",
 "description": "",
 "extent": {
  "xmin": 2244999.9999999986,
  "ymin": 300000,
  "xmax": 2375000.000000006,
  "ymax": 405000.00000001834,
  "spatialReference": {
   "wkt2": "PROJCRS[\"NAD_1983_2011_StatePlane_South_Carolina_FIPS_3900_Ft_Intl\",BASEGEOGCRS[\"GCS_NAD_1983_2011\",DATUM[\"D_unknown\",ELLIPSOID[\"GRS_1980\",6378137.0,298.257222101,LENGTHUNIT[\"Meter\",1.0]]],PRIMEM[\"Greenwich\",0.0,ANGLEUNIT[\"Degree\",0.0174532925199433]],CS[ellipsoidal,2],ANGLEUNIT[\"Degree\",0.0174532925199433]],CONVERSION[\"Lambert_Conformal_Conic\",METHOD[\"Lambert_Conformal_Conic\"],PARAMETER[\"false_easting\",2000000.0,LENGTHUNIT[\"Foot\",0.3048]],PARAMETER[\"false_northing\",0.0,LENGTHUNIT[\"Foot\",0.3048]],PARAMETER[\"central_meridian\",-81.0,ANGLEUNIT[\"Degree\",0.0174532925199433]],PARAMETER[\"standard_parallel_1\",32.5,ANGLEUNIT[\"Degree\",0.0174532925199433]],PARAMETER[\"standard_parallel_2\",34.8333333333333,ANGLEUNIT[\"Degree\",0.0174532925199433]],PARAMETER[\"latitude_of_origin\",31.8333333333333,ANGLEUNIT[\"Degree\",0.0174532925199433]]],CS[Cartesian,2],AXIS[\"Easting (X)\",east,ORDER[1]],AXIS[\"Northing (Y)\",north,ORDER[2]],LENGTHUNIT[\"Foot\",0.3048]]",
   "wkt": "PROJCS[\"NAD_1983_2011_StatePlane_South_Carolina_FIPS_3900_Ft_Intl\",GEOGCS[\"GCS_NAD_1983_2011\",DATUM[\"D_unknown\",SPHEROID[\"GRS_1980\",6378137.0,298.257222101]],PRIMEM[\"Greenwich\",0.0],UNIT[\"Degree\",0.0174532925199433]],PROJECTION[\"Lambert_Conformal_Conic\"],PARAMETER[\"false_easting\",2000000.0],PARAMETER[\"false_northing\",0.0],PARAMETER[\"central_meridian\",-81.0],PARAMETER[\"standard_parallel_1\",32.5],PARAMETER[\"standard_parallel_2\",34.8333333333333],PARAMETER[\"latitude_of_origin\",31.8333333333333],UNIT[\"Foot\",0.3048]]"
  }
 },
 "initialExtent": {
  "xmin": 2244999.9999999986,
  "ymin": 300000,
  "xmax": 2375000.000000006,
  "ymax": 405000.00000001834,
  "spatialReference": {
   "wkt2": "PROJCRS[\"NAD_1983_2011_StatePlane_South_Carolina_FIPS_3900_Ft_Intl\",BASEGEOGCRS[\"GCS_NAD_1983_2011\",DATUM[\"D_unknown\",ELLIPSOID[\"GRS_1980\",6378137.0,298.257222101,LENGTHUNIT[\"Meter\",1.0]]],PRIMEM[\"Greenwich\",0.0,ANGLEUNIT[\"Degree\",0.0174532925199433]],CS[ellipsoidal,2],ANGLEUNIT[\"Degree\",0.0174532925199433]],CONVERSION[\"Lambert_Conformal_Conic\",METHOD[\"Lambert_Conformal_Conic\"],PARAMETER[\"false_easting\",2000000.0,LENGTHUNIT[\"Foot\",0.3048]],PARAMETER[\"false_northing\",0.0,LENGTHUNIT[\"Foot\",0.3048]],PARAMETER[\"central_meridian\",-81.0,ANGLEUNIT[\"Degree\",0.0174532925199433]],PARAMETER[\"standard_parallel_1\",32.5,ANGLEUNIT[\"Degree\",0.0174532925199433]],PARAMETER[\"standard_parallel_2\",34.8333333333333,ANGLEUNIT[\"Degree\",0.0174532925199433]],PARAMETER[\"latitude_of_origin\",31.8333333333333,ANGLEUNIT[\"Degree\",0.0174532925199433]]],CS[Cartesian,2],AXIS[\"Easting (X)\",east,ORDER[1]],AXIS[\"Northing (Y)\",north,ORDER[2]],LENGTHUNIT[\"Foot\",0.3048]]",
   "wkt": "PROJCS[\"NAD_1983_2011_StatePlane_South_Carolina_FIPS_3900_Ft_Intl\",GEOGCS[\"GCS_NAD_1983_2011\",DATUM[\"D_unknown\",SPHEROID[\"GRS_1980\",6378137.0,298.257222101]],PRIMEM[\"Greenwich\",0.0],UNIT[\"Degree\",0.0174532925199433]],PROJECTION[\"Lambert_Conformal_Conic\"],PARAMETER[\"false_easting\",2000000.0],PARAMETER[\"false_northing\",0.0],PARAMETER[\"central_meridian\",-81.0],PARAMETER[\"standard_parallel_1\",32.5],PARAMETER[\"standard_parallel_2\",34.8333333333333],PARAMETER[\"latitude_of_origin\",31.8333333333333],UNIT[\"Foot\",0.3048]]"
  }
 },
 "fullExtent": {
  "xmin": 2244999.9999999986,
  "ymin": 300000,
  "xmax": 2375000.000000006,
  "ymax": 405000.00000001834,
  "spatialReference": {
   "wkt2": "PROJCRS[\"NAD_1983_2011_StatePlane_South_Carolina_FIPS_3900_Ft_Intl\",BASEGEOGCRS[\"GCS_NAD_1983_2011\",DATUM[\"D_unknown\",ELLIPSOID[\"GRS_1980\",6378137.0,298.257222101,LENGTHUNIT[\"Meter\",1.0]]],PRIMEM[\"Greenwich\",0.0,ANGLEUNIT[\"Degree\",0.0174532925199433]],CS[ellipsoidal,2],ANGLEUNIT[\"Degree\",0.0174532925199433]],CONVERSION[\"Lambert_Conformal_Conic\",METHOD[\"Lambert_Conformal_Conic\"],PARAMETER[\"false_easting\",2000000.0,LENGTHUNIT[\"Foot\",0.3048]],PARAMETER[\"false_northing\",0.0,LENGTHUNIT[\"Foot\",0.3048]],PARAMETER[\"central_meridian\",-81.0,ANGLEUNIT[\"Degree\",0.0174532925199433]],PARAMETER[\"standard_parallel_1\",32.5,ANGLEUNIT[\"Degree\",0.0174532925199433]],PARAMETER[\"standard_parallel_2\",34.8333333333333,ANGLEUNIT[\"Degree\",0.0174532925199433]],PARAMETER[\"latitude_of_origin\",31.8333333333333,ANGLEUNIT[\"Degree\",0.0174532925199433]]],CS[Cartesian,2],AXIS[\"Easting (X)\",east,ORDER[1]],AXIS[\"Northing (Y)\",north,ORDER[2]],LENGTHUNIT[\"Foot\",0.3048]]",
   "wkt": "PROJCS[\"NAD_1983_2011_StatePlane_South_Carolina_FIPS_3900_Ft_Intl\",GEOGCS[\"GCS_NAD_1983_2011\",DATUM[\"D_unknown\",SPHEROID[\"GRS_1980\",6378137.0,298.257222101]],PRIMEM[\"Greenwich\",0.0],UNIT[\"Degree\",0.0174532925199433]],PROJECTION[\"Lambert_Conformal_Conic\"],PARAMETER[\"false_easting\",2000000.0],PARAMETER[\"false_northing\",0.0],PARAMETER[\"central_meridian\",-81.0],PARAMETER[\"standard_parallel_1\",32.5],PARAMETER[\"standard_parallel_2\",34.8333333333333],PARAMETER[\"latitude_of_origin\",31.8333333333333],UNIT[\"Foot\",0.3048]]"
  }
 },
 "sortableFields": "",
 "bandCount": 1,
 "pixelType": "F32",
 "minValues": [
  -584.005126953125
 ],
 "maxValues": [
  640.3115234375
 ],
 "meanValues": [
  23.921148503610542
 ],
 "stdvValues": [
  29.347260796140453
 ],
 "hasMultidimensions": false,
 "pixelSizeX": 2.5000000000001434,
 "pixelSizeY": 2.5000000000004365,
 "meanPixelSize": 0.7620000000000884,
 "datasetFormat": "FGDBR",
 "uncompressedSize": 8736000000,
 "blockWidth": 128,
 "blockHeight": 128,
 "compressionType": "NONE",
 "bandNames": [
  "Band_1"
 ],
 "allowCopy": true,
 "allowAnalysis": true,
 "itemAccess": false,
 "inspectionCapabilities": "",
 "minPixelSize": 0,
 "maxPixelSize": 0,
 "copyrightText": "",
 "serviceDataType": "esriImageServiceDataTypeGeneric",
 "serviceSourceType": "esriImageServiceSourceTypeDataset",
 "objectIdField": "",
 "fields": [],
 "capabilities": "Mensuration,Image,Metadata",
 "defaultMosaicMethod": "Center",
 "allowedMosaicMethods": "",
 "sortField": "",
 "sortValue": null,
 "sortAscending": true,
 "mosaicOperator": "First",
 "defaultCompressionQuality": 75,
 "defaultResamplingMethod": "Bilinear",
 "maxImageHeight": 4100,
 "maxImageWidth": 15000,
 "allowRasterFunction": true,
 "rasterFunctionInfos": [
  {
   "name": "None",
   "description": "",
   "help": ""
  }
 ],
 "rasterTypeInfos": [
  {
   "name": "Raster Dataset",
   "description": "Supports all ArcGIS Raster Datasets",
   "help": ""
  }
 ],
 "mensurationCapabilities": "Basic",
 "hasHistograms": true,
 "hasColormap": false,
 "hasRasterAttributeTable": false,
 "minScale": 0,
 "maxScale": 0,
 "exportTilesAllowed": false,
 "supportsStatistics": false,
 "supportsAdvancedQueries": false,
 "editFieldsInfo": null,
 "ownershipBasedAccessControlForRasters": null,
 "allowComputeTiePoints": false,
 "useStandardizedQueries": true,
 "advancedQueryCapabilities": {
  "useStandardizedQueries": true,
  "supportsStatistics": false,
  "supportsOrderBy": false,
  "supportsDistinct": false,
  "supportsPagination": false
 },
 "spatialReference": {
  "wkt2": "PROJCRS[\"NAD_1983_2011_StatePlane_South_Carolina_FIPS_3900_Ft_Intl\",BASEGEOGCRS[\"GCS_NAD_1983_2011\",DATUM[\"D_unknown\",ELLIPSOID[\"GRS_1980\",6378137.0,298.257222101,LENGTHUNIT[\"Meter\",1.0]]],PRIMEM[\"Greenwich\",0.0,ANGLEUNIT[\"Degree\",0.0174532925199433]],CS[ellipsoidal,2],ANGLEUNIT[\"Degree\",0.0174532925199433]],CONVERSION[\"Lambert_Conformal_Conic\",METHOD[\"Lambert_Conformal_Conic\"],PARAMETER[\"false_easting\",2000000.0,LENGTHUNIT[\"Foot\",0.3048]],PARAMETER[\"false_northing\",0.0,LENGTHUNIT[\"Foot\",0.3048]],PARAMETER[\"central_meridian\",-81.0,ANGLEUNIT[\"Degree\",0.0174532925199433]],PARAMETER[\"standard_parallel_1\",32.5,ANGLEUNIT[\"Degree\",0.0174532925199433]],PARAMETER[\"standard_parallel_2\",34.8333333333333,ANGLEUNIT[\"Degree\",0.0174532925199433]],PARAMETER[\"latitude_of_origin\",31.8333333333333,ANGLEUNIT[\"Degree\",0.0174532925199433]]],CS[Cartesian,2],AXIS[\"Easting (X)\",east,ORDER[1]],AXIS[\"Northing (Y)\",north,ORDER[2]],LENGTHUNIT[\"Foot\",0.3048]]",
  "wkt": "PROJCS[\"NAD_1983_2011_StatePlane_South_Carolina_FIPS_3900_Ft_Intl\",GEOGCS[\"GCS_NAD_1983_2011\",DATUM[\"D_unknown\",SPHEROID[\"GRS_1980\",6378137.0,298.257222101]],PRIMEM[\"Greenwich\",0.0],UNIT[\"Degree\",0.0174532925199433]],PROJECTION[\"Lambert_Conformal_Conic\"],PARAMETER[\"false_easting\",2000000.0],PARAMETER[\"false_northing\",0.0],PARAMETER[\"central_meridian\",-81.0],PARAMETER[\"standard_parallel_1\",32.5],PARAMETER[\"standard_parallel_2\",34.8333333333333],PARAMETER[\"latitude_of_origin\",31.8333333333333],UNIT[\"Foot\",0.3048]]"
 },
 "resampling": false
}
