View In:
ArcGIS JavaScript
ArcGIS Online Map Viewer
ArcGIS Earth
Service Description: SCDNR_2017_DSM_3x3ft
Name: SCDNR_2017_DSM_3x3ft
Description:
Single Fused Map Cache: false
Extent:
XMin: 2244999.9999999986
YMin: 300000.0
XMax: 2375000.000000006
YMax: 405000.00000001834
Spatial Reference: 0
(0)
LatestVCSWkid(0)
Initial Extent:
XMin: 2244999.9999999986
YMin: 300000.0
XMax: 2375000.000000006
YMax: 405000.00000001834
Spatial Reference: 0
(0)
LatestVCSWkid(0)
Full Extent:
XMin: 2244999.9999999986
YMin: 300000.0
XMax: 2375000.000000006
YMax: 405000.00000001834
Spatial Reference: 0
(0)
LatestVCSWkid(0)
Pixel Size X: 2.5000000000001434
Pixel Size Y: 2.5000000000004365
Band Count: 1
Pixel Type: F32
RasterFunction Infos: {"rasterFunctionInfos": [{
"name": "None",
"description": "",
"help": ""
}]}
Mensuration Capabilities: Basic
Inspection Capabilities:
Has Histograms: true
Has Colormap: false
Has Multi Dimensions : false
Rendering Rule:
Min Scale: 0
Max Scale: 0
Resampling: false
Copyright Text:
Service Data Type: esriImageServiceDataTypeGeneric
Min Values: -584.005126953125
Max Values: 640.3115234375
Mean Values: 23.921148503610542
Standard Deviation Values: 29.347260796140453
Object ID Field:
Fields:
None
Default Mosaic Method: Center
Allowed Mosaic Methods:
SortField:
SortValue: null
Mosaic Operator: First
Default Compression Quality: 75
Default Resampling Method: Bilinear
Max Record Count: null
Max Image Height: 4100
Max Image Width: 15000
Max Download Image Count: null
Max Mosaic Image Count: null
Allow Raster Function: true
Allow Copy: true
Allow Analysis: true
Allow Compute TiePoints: false
Supports Statistics: false
Supports Advanced Queries: false
Use StandardizedQueries: true
Raster Type Infos:
Name: Raster Dataset
Description: Supports all ArcGIS Raster Datasets
Help:
Has Raster Attribute Table: false
Edit Fields Info: null
Ownership Based AccessControl For Rasters: null
Child Resources:
Info
Histograms
Statistics
Key Properties
Legend
Raster Function Infos
Supported Operations:
Export Image
Identify
Measure
Compute Histograms
Compute Statistics Histograms
Get Samples
Compute Class Statistics
Query Boundary
Compute Pixel Location
Compute Angles
Validate
Project