View In:
ArcGIS JavaScript
ArcGIS Online Map Viewer
ArcGIS Earth
Service Description: Int_Wacc_25yr_clip_WGS
Name: Int_Wacc_25yr_clip_WGS
Description:
Single Fused Map Cache: false
Extent:
XMin: -8814378.67342242
YMin: 3969091.534297904
XMax: -8748062.88753825
YMax: 4026302.3565105908
Spatial Reference: 102100
(3857)
LatestVCSWkid(0)
Initial Extent:
XMin: -8814378.67342242
YMin: 3969091.534297904
XMax: -8748062.88753825
YMax: 4026302.3565105908
Spatial Reference: 102100
(3857)
LatestVCSWkid(0)
Full Extent:
XMin: -8814378.67342242
YMin: 3969091.534297904
XMax: -8748062.88753825
YMax: 4026302.3565105908
Spatial Reference: 102100
(3857)
LatestVCSWkid(0)
Pixel Size X: 1.2191970636694034
Pixel Size Y: 1.2191970636694036
Band Count: 1
Pixel Type: S8
RasterFunction Infos: {"rasterFunctionInfos": [{
"name": "None",
"description": "",
"help": ""
}]}
Mensuration Capabilities: Basic
Inspection Capabilities:
Has Histograms: true
Has Colormap: false
Has Multi Dimensions : false
Rendering Rule:
Min Scale: 0
Max Scale: 0
Resampling: false
Copyright Text:
Service Data Type: esriImageServiceDataTypeGeneric
Min Values: 0
Max Values: 50
Mean Values: 4.244414746116648
Standard Deviation Values: 3.977650037148383
Object ID Field:
Fields:
None
Default Mosaic Method: Center
Allowed Mosaic Methods:
SortField:
SortValue: null
Mosaic Operator: First
Default Compression Quality: 75
Default Resampling Method: Bilinear
Max Record Count: null
Max Image Height: 4100
Max Image Width: 15000
Max Download Image Count: null
Max Mosaic Image Count: null
Allow Raster Function: true
Allow Copy: true
Allow Analysis: true
Allow Compute TiePoints: false
Supports Statistics: false
Supports Advanced Queries: false
Use StandardizedQueries: true
Raster Type Infos:
Name: Raster Dataset
Description: Supports all ArcGIS Raster Datasets
Help:
Has Raster Attribute Table: true
Edit Fields Info: null
Ownership Based AccessControl For Rasters: null
Child Resources:
Info
Raster Attribute Table
Histograms
Statistics
Key Properties
Legend
Raster Function Infos
Supported Operations:
Export Image
Identify
Measure
Compute Histograms
Compute Statistics Histograms
Get Samples
Compute Class Statistics
Query Boundary
Compute Pixel Location
Compute Angles
Validate
Project