{
 "currentVersion": 11.2,
 "cimVersion": "3.2.0",
 "serviceDescription": "",
 "mapName": "230308 JDPool_3D",
 "description": "",
 "copyrightText": "",
 "supportsDynamicLayers": false,
 "layers": [
  {
   "id": 0,
   "name": "230308_JohnDayPool.sid",
   "parentLayerId": -1,
   "defaultVisibility": true,
   "subLayerIds": null,
   "minScale": 0,
   "maxScale": 0,
   "type": "Raster Layer",
   "supportsDynamicLegends": true
  }
 ],
 "tables": [],
 "spatialReference": {
  "wkid": 103137,
  "latestWkid": 6559,
  "xyTolerance": 0.0032808398950131233,
  "zTolerance": 0.001,
  "mTolerance": 0.001,
  "falseX": -111333600,
  "falseY": -98152500,
  "xyUnits": 3048,
  "falseZ": -100000,
  "zUnits": 10000,
  "falseM": -100000,
  "mUnits": 10000
 },
 "singleFusedMapCache": true,
 "tileInfo": {
  "rows": 256,
  "cols": 256,
  "dpi": 96,
  "format": "Mixed",
  "compressionQuality": 75,
  "origin": {
   "x": -1.1133323670086935E8,
   "y": 1.1766207498292059E8
  },
  "spatialReference": {
   "wkid": 103137,
   "latestWkid": 6559,
   "xyTolerance": 0.0032808398950131233,
   "zTolerance": 0.001,
   "mTolerance": 0.001,
   "falseX": -111333600,
   "falseY": -98152500,
   "xyUnits": 3048,
   "falseZ": -100000,
   "zUnits": 10000,
   "falseM": -100000,
   "mUnits": 10000
  },
  "lods": [
   {
    "level": 0,
    "resolution": 933869.8159250169,
    "scale": 1.0758180279456193E9
   },
   {
    "level": 1,
    "resolution": 466934.90796250844,
    "scale": 5.379090139728097E8
   },
   {
    "level": 2,
    "resolution": 233467.45398125422,
    "scale": 2.6895450698640484E8
   },
   {
    "level": 3,
    "resolution": 116733.72699062711,
    "scale": 1.3447725349320242E8
   },
   {
    "level": 4,
    "resolution": 58366.863495313555,
    "scale": 6.723862674660121E7
   },
   {
    "level": 5,
    "resolution": 29183.431747656778,
    "scale": 3.3619313373300605E7
   },
   {
    "level": 6,
    "resolution": 14591.715873828389,
    "scale": 1.6809656686650302E7
   },
   {
    "level": 7,
    "resolution": 7295.857936914194,
    "scale": 8404828.343325151
   },
   {
    "level": 8,
    "resolution": 3647.928968457097,
    "scale": 4202414.171662576
   },
   {
    "level": 9,
    "resolution": 1823.9644842285486,
    "scale": 2101207.085831288
   },
   {
    "level": 10,
    "resolution": 911.9822421142743,
    "scale": 1050603.542915644
   },
   {
    "level": 11,
    "resolution": 455.99112105713715,
    "scale": 525301.771457822
   },
   {
    "level": 12,
    "resolution": 227.99556052856857,
    "scale": 262650.885728911
   },
   {
    "level": 13,
    "resolution": 113.99778026428429,
    "scale": 131325.4428644555
   },
   {
    "level": 14,
    "resolution": 56.998890132142144,
    "scale": 65662.72143222774
   },
   {
    "level": 15,
    "resolution": 28.499445066071072,
    "scale": 32831.36071611387
   },
   {
    "level": 16,
    "resolution": 14.249722533035536,
    "scale": 16415.680358056936
   },
   {
    "level": 17,
    "resolution": 7.124861266517768,
    "scale": 8207.840179028468
   },
   {
    "level": 18,
    "resolution": 3.562430633258884,
    "scale": 4103.920089514234
   }
  ]
 },
 "storageInfo": {
  "storageFormat": "esriMapCacheStorageModeCompactV2",
  "packetSize": 128
 },
 "initialExtent": {
  "xmin": 8493407.565213261,
  "ymin": 821551.7412702194,
  "xmax": 8494414.778764365,
  "ymax": 822413.492908034,
  "spatialReference": {
   "wkid": 103137,
   "latestWkid": 6559,
   "xyTolerance": 0.0032808398950131233,
   "zTolerance": 0.001,
   "mTolerance": 0.001,
   "falseX": -111333600,
   "falseY": -98152500,
   "xyUnits": 3048,
   "falseZ": -100000,
   "zUnits": 10000,
   "falseM": -100000,
   "mUnits": 10000
  }
 },
 "fullExtent": {
  "xmin": 8473750,
  "ymin": 818500,
  "xmax": 8498200,
  "ymax": 824850,
  "spatialReference": {
   "wkid": 103137,
   "latestWkid": 6559,
   "xyTolerance": 0.0032808398950131233,
   "zTolerance": 0.001,
   "mTolerance": 0.001,
   "falseX": -111333600,
   "falseY": -98152500,
   "xyUnits": 3048,
   "falseZ": -100000,
   "zUnits": 10000,
   "falseM": -100000,
   "mUnits": 10000
  }
 },
 "datesInUnknownTimezone": false,
 "units": "esriFeet",
 "supportedImageFormatTypes": "PNG32,PNG24,PNG,JPG,DIB,TIFF,EMF,PS,PDF,GIF,SVG,SVGZ,BMP",
 "documentInfo": {
  "Title": "Map1",
  "Author": "",
  "Comments": "",
  "Subject": "",
  "Category": "",
  "Version": "3.2.0",
  "AntialiasingMode": "Fast",
  "TextAntialiasingMode": "Force",
  "Keywords": ""
 },
 "supportsQueryDomains": true,
 "supportedQueryFormats": "JSON, geoJSON, PBF",
 "referenceScale": 0.0,
 "datumTransformations": [
  {
   "geoTransforms": [
    {
     "wkid": 108363,
     "latestWkid": 108363,
     "transformForward": true,
     "name": "WGS_1984_(ITRF08)_To_NAD_1983_2011"
    }
   ]
  },
  {
   "geoTransforms": [
    {
     "wkid": 108363,
     "latestWkid": 108363,
     "transformForward": false,
     "name": "WGS_1984_(ITRF08)_To_NAD_1983_2011"
    }
   ]
  }
 ],
 "supportsDatumTransformation": true,
 "archivingInfo": {
  "supportsHistoricMoment": false
 },
 "supportsClipping": true,
 "supportsSpatialFilter": true,
 "supportsTimeRelation": true,
 "supportsQueryDataElements": true,
 "mapUnits": {
  "uwkid": 9002
 },
 "maxRecordCount": 1000,
 "maxImageHeight": 4096,
 "maxImageWidth": 4096,
 "capabilities": "TilesOnly,Tilemap",
 "minScale": 65662.72143222774,
 "maxScale": 4103.920089514234,
 "exportTilesAllowed": false,
 "maxExportTilesCount": 100000,
 "minLOD": 14,
 "maxLOD": 18,
 "supportedExtensions": "",
 "serviceItemId": "c1f9a3aaed5c45499ec02b6deb56563c"
}
