{
 "currentVersion": 11.5,
 "serviceDescription": "Pearl_RIM_Forecast_18Jun2026",
 "serviceItemId": "53289be0aafc4ba1a675c5ae2d7c3b54",
 "name": "Pearl_RIM_Forecast_18Jun2026",
 "description": "",
 "extent": {
  "xmin": -90.3280083308153,
  "ymin": 30.13279097906133,
  "xmax": -89.43101932902267,
  "ymax": 31.445278805460443,
  "spatialReference": {
   "wkid": 4326,
   "latestWkid": 4326,
   "vcsWkid": 105703,
   "latestVcsWkid": 6360
  }
 },
 "initialExtent": {
  "xmin": -90.3280083308153,
  "ymin": 30.13279097906133,
  "xmax": -89.43101932902267,
  "ymax": 31.445278805460443,
  "spatialReference": {
   "wkid": 4326,
   "latestWkid": 4326,
   "vcsWkid": 105703,
   "latestVcsWkid": 6360
  }
 },
 "fullExtent": {
  "xmin": -90.3280083308153,
  "ymin": 30.13279097906133,
  "xmax": -89.43101932902267,
  "ymax": 31.445278805460443,
  "spatialReference": {
   "wkid": 4326,
   "latestWkid": 4326,
   "vcsWkid": 105703,
   "latestVcsWkid": 6360
  }
 },
 "sortableFields": "",
 "heightModelInfo": {
  "heightModel": "gravity_related_height",
  "vertCRS": "NAVD88_height_(ftUS)",
  "heightUnit": "us-foot"
 },
 "bandCount": 1,
 "pixelType": "F32",
 "minValues": [
  9.9945068359375E-4
 ],
 "maxValues": [
  32.432052612305
 ],
 "meanValues": [
  4.3273886602197
 ],
 "stdvValues": [
  3.3970090251744
 ],
 "serviceProperties": "Center<\/MosaicMethod>First<\/MosaicOperator>true<\/SortAscending><\/LockImageID><\/TileOrderField>0<\/TileOrderBase>0.000000<\/AvgImageSpacingX>0.000000<\/AvgImageSpacingY>0.0<\/ViewPointX>0.0<\/ViewPointY>0.0<\/ViewPointDefShiftX>0.0<\/ViewPointDefShiftY>None<\/CompressionMethod>75<\/CompressionQuality>0.010000<\/CompressionTolerance>Bilinear<\/SamplingMethod><\/ImageServiceProperties><\/ImageServer>",
 "allowedFields": "",
 "hasMultidimensions": false,
 "pixelSizeX": 2.055805376312383E-5,
 "pixelSizeY": 2.055805376312381E-5,
 "meanPixelSize": 2.2885120766116853,
 "datasetFormat": "TIFF",
 "uncompressedSize": 11142391104,
 "blockWidth": 512,
 "blockHeight": 512,
 "compressionType": "LZW",
 "bandNames": [
  "Band_1"
 ],
 "allowCopy": true,
 "allowAnalysis": true,
 "itemAccess": false,
 "inspectionCapabilities": "",
 "noDataValue": -9999,
 "noDataValues": [
  -9999
 ],
 "minPixelSize": 0,
 "maxPixelSize": 0,
 "copyrightText": "",
 "serviceDataType": "esriImageServiceDataTypeGeneric",
 "serviceSourceType": "esriImageServiceSourceTypeDataset",
 "objectIdField": "",
 "fields": [],
 "capabilities": "Image,Metadata,Mensuration",
 "defaultMosaicMethod": "Center",
 "allowedMosaicMethods": "",
 "sortField": "",
 "sortValue": null,
 "sortAscending": true,
 "mosaicOperator": "First",
 "defaultCompressionQuality": 75,
 "defaultResamplingMethod": "Bilinear",
 "maxImageHeight": 4100,
 "maxImageWidth": 15000,
 "allowRasterFunction": true,
 "rasterFunctionInfos": [
  {
   "name": "None",
   "description": "",
   "help": ""
  }
 ],
 "rasterTypeInfos": [
  {
   "name": "Raster Dataset",
   "description": "Supports all ArcGIS Raster Datasets",
   "help": ""
  }
 ],
 "mensurationCapabilities": "Basic",
 "hasHistograms": true,
 "hasColormap": false,
 "hasRasterAttributeTable": false,
 "minScale": 0,
 "maxScale": 0,
 "exportTilesAllowed": false,
 "supportsStatistics": false,
 "supportsAdvancedQueries": false,
 "editFieldsInfo": null,
 "ownershipBasedAccessControlForRasters": null,
 "allowComputeTiePoints": false,
 "useStandardizedQueries": true,
 "advancedQueryCapabilities": {
  "useStandardizedQueries": true,
  "supportsStatistics": false,
  "supportsOrderBy": false,
  "supportsDistinct": false,
  "supportsPagination": false
 },
 "spatialReference": {
  "wkid": 4326,
  "latestWkid": 4326,
  "vcsWkid": 105703,
  "latestVcsWkid": 6360
 }
}
