<?xml version="1.0" encoding="UTF-8" standalone="no"?>
<metadata xml:lang="en">
<Esri>
<CreaDate>20190528</CreaDate>
<CreaTime>13405300</CreaTime>
<ArcGISFormat>1.0</ArcGISFormat>
<SyncOnce>FALSE</SyncOnce>
<DataProperties>
<itemProps>
<itemName Sync="TRUE">MoRiver_may28.tif</itemName>
<itemLocation>
<linkage Sync="TRUE">file://\\nwk-netapp2.nwk.ds.usace.army.mil\missionfiles\MissionProjects\civ\EMFloods\2019\March2019\FloodEvent\GIS\Inundation_Models\28May\MoRiver\MoRiver_may28.tif</linkage>
<protocol Sync="TRUE">Local Area Network</protocol>
</itemLocation>
<imsContentType Sync="TRUE">002</imsContentType>
<nativeExtBox>
<westBL Sync="TRUE">967201.259241</westBL>
<eastBL Sync="TRUE">2498261.189241</eastBL>
<southBL Sync="TRUE">13798352.287509</southBL>
<northBL Sync="TRUE">14589413.697509</northBL>
<exTypeCode Sync="TRUE">1</exTypeCode>
</nativeExtBox>
</itemProps>
<coordRef>
<type Sync="TRUE">Projected</type>
<geogcsn Sync="TRUE">GCS_North_American_1983</geogcsn>
<csUnits Sync="TRUE">Linear Unit: Foot_US (0.304801)</csUnits>
<projcsn Sync="TRUE">NAD_1983_BLM_Zone_15N_ftUS</projcsn>
<peXml Sync="TRUE">&lt;ProjectedCoordinateSystem xsi:type='typens:ProjectedCoordinateSystem' xmlns:xsi='http://www.w3.org/2001/XMLSchema-instance' xmlns:xs='http://www.w3.org/2001/XMLSchema' xmlns:typens='http://www.esri.com/schemas/ArcGIS/2.3.0'&gt;&lt;WKT&gt;PROJCS[&amp;quot;NAD_1983_BLM_Zone_15N_ftUS&amp;quot;,GEOGCS[&amp;quot;GCS_North_American_1983&amp;quot;,DATUM[&amp;quot;D_North_American_1983&amp;quot;,SPHEROID[&amp;quot;GRS_1980&amp;quot;,6378137.0,298.257222101]],PRIMEM[&amp;quot;Greenwich&amp;quot;,0.0],UNIT[&amp;quot;Degree&amp;quot;,0.0174532925199433]],PROJECTION[&amp;quot;Transverse_Mercator&amp;quot;],PARAMETER[&amp;quot;False_Easting&amp;quot;,1640416.666666667],PARAMETER[&amp;quot;False_Northing&amp;quot;,0.0],PARAMETER[&amp;quot;Central_Meridian&amp;quot;,-93.0],PARAMETER[&amp;quot;Scale_Factor&amp;quot;,0.9996],PARAMETER[&amp;quot;Latitude_Of_Origin&amp;quot;,0.0],UNIT[&amp;quot;Foot_US&amp;quot;,0.3048006096012192],AUTHORITY[&amp;quot;EPSG&amp;quot;,32165]]&lt;/WKT&gt;&lt;XOrigin&gt;-16800800&lt;/XOrigin&gt;&lt;YOrigin&gt;-32802000&lt;/YOrigin&gt;&lt;XYScale&gt;137296494.95062786&lt;/XYScale&gt;&lt;ZOrigin&gt;-100000&lt;/ZOrigin&gt;&lt;ZScale&gt;10000&lt;/ZScale&gt;&lt;MOrigin&gt;-100000&lt;/MOrigin&gt;&lt;MScale&gt;10000&lt;/MScale&gt;&lt;XYTolerance&gt;0.0032808333333333331&lt;/XYTolerance&gt;&lt;ZTolerance&gt;0.001&lt;/ZTolerance&gt;&lt;MTolerance&gt;0.001&lt;/MTolerance&gt;&lt;HighPrecision&gt;true&lt;/HighPrecision&gt;&lt;WKID&gt;32165&lt;/WKID&gt;&lt;LatestWKID&gt;32165&lt;/LatestWKID&gt;&lt;/ProjectedCoordinateSystem&gt;</peXml>
</coordRef>
<RasterProperties>
<General>
<PixelDepth Sync="TRUE">32</PixelDepth>
<HasColormap Sync="TRUE">FALSE</HasColormap>
<CompressionType Sync="TRUE">LZW</CompressionType>
<NumBands Sync="TRUE">1</NumBands>
<Format Sync="TRUE">TIFF</Format>
<HasPyramids Sync="TRUE">TRUE</HasPyramids>
<SourceType Sync="TRUE">continuous</SourceType>
<PixelType Sync="TRUE">floating point</PixelType>
<NoDataValue Sync="TRUE">-3.4028235e+38</NoDataValue>
</General>
</RasterProperties>
<lineage>
<Process Date="20190528" Time="133620" ToolSource="c:\program files\arcgis\pro\Resources\ArcToolbox\toolboxes\Data Management Tools.tbx\MosaicToNewRaster">MosaicToNewRaster 'Depth (Max).ba3m.ba3m_b.tif';'Depth (Max).ba3m.ba3m_c.tif';'Depth (Max).ba3m.ba3m_d.tif';'Depth (Max).ba3m.ba3m_e.tif';'Depth (Max).ba3m.ba3m_f.tif';DepthMaxba3mba3m_gclip.tif;Depthmorivnedutmmorivnedutmclip.tif E:\28-May MoRiver_may28.tif # "32 bit float" # 1 Maximum First</Process>
<Process Date="20190528" Time="134053" ToolSource="c:\program files\arcgis\pro\Resources\ArcToolbox\toolboxes\Data Management Tools.tbx\Copy">Copy E:\28-May\MoRiver_may28.tif K:\MissionProjects\civ\EMFloods\2019\March2019\FloodEvent\GIS\Inundation_Models\28May\MoRiver\MoRiver_may28.tif "Raster Dataset" #</Process>
</lineage>
<copyHistory>
<copy date="20190528" dest="\\nwk-netapp2.nwk.ds.usace.army.mil\missionfiles\MissionProjects\civ\EMFloods\2019\March2019\FloodEvent\GIS\Inundation_Models\28May\MoRiver\MoRiver_may28.tif" source="E:\28-May\MoRiver_may28.tif" time="13405300"/>
</copyHistory>
</DataProperties>
<SyncDate>20190528</SyncDate>
<SyncTime>13362000</SyncTime>
<ModDate>20190528</ModDate>
<ModTime>13362000</ModTime>
</Esri>
<dataIdInfo>
<envirDesc Sync="TRUE">Microsoft Windows 10 Version 10.0 (Build 16299) ; Esri ArcGIS 12.3.0.15769</envirDesc>
<dataLang>
<languageCode Sync="TRUE" value="eng"/>
<countryCode Sync="TRUE" value="USA"/>
</dataLang>
<idCitation>
<resTitle Sync="TRUE">Missouri River May Maximum 2019 Flood Event</resTitle>
<presForm>
<PresFormCd Sync="TRUE" value="005"/>
</presForm>
</idCitation>
<spatRpType>
<SpatRepTypCd Sync="TRUE" value="002"/>
</spatRpType>
<dataExt>
<geoEle>
<GeoBndBox esriExtentType="search">
<exTypeCode Sync="TRUE">1</exTypeCode>
<westBL Sync="TRUE">-95.408958</westBL>
<eastBL Sync="TRUE">-89.931185</eastBL>
<northBL Sync="TRUE">40.172129</northBL>
<southBL Sync="TRUE">37.961709</southBL>
</GeoBndBox>
</geoEle>
</dataExt>
<idAbs/>
<idPurp>HEC RAS model of the Missouri River showing the May 2019 maximum flood extents. </idPurp>
<idCredit/>
<resConst>
<Consts>
<useLimit/>
</Consts>
</resConst>
</dataIdInfo>
<mdLang>
<languageCode Sync="TRUE" value="eng"/>
<countryCode Sync="TRUE" value="USA"/>
</mdLang>
<mdChar>
<CharSetCd Sync="TRUE" value="004"/>
</mdChar>
<distInfo>
<distFormat>
<formatName Sync="TRUE">Raster Dataset</formatName>
</distFormat>
</distInfo>
<mdHrLv>
<ScopeCd Sync="TRUE" value="005"/>
</mdHrLv>
<mdHrLvName Sync="TRUE">dataset</mdHrLvName>
<refSysInfo>
<RefSystem>
<refSysID>
<identCode Sync="TRUE" code="32165"/>
<idCodeSpace Sync="TRUE">EPSG</idCodeSpace>
<idVersion Sync="TRUE">7.4.5(9.3.0.0)</idVersion>
</refSysID>
</RefSystem>
</refSysInfo>
<spatRepInfo>
<Georect>
<cellGeo>
<CellGeoCd Sync="TRUE" value="002"/>
</cellGeo>
<numDims Sync="TRUE">2</numDims>
<tranParaAv Sync="TRUE">1</tranParaAv>
<chkPtAv Sync="TRUE">0</chkPtAv>
<cornerPts>
<pos Sync="TRUE">967201.259241 13798352.287509</pos>
</cornerPts>
<cornerPts>
<pos Sync="TRUE">967201.259241 14589413.697509</pos>
</cornerPts>
<cornerPts>
<pos Sync="TRUE">2498261.189241 14589413.697509</pos>
</cornerPts>
<cornerPts>
<pos Sync="TRUE">2498261.189241 13798352.287509</pos>
</cornerPts>
<centerPt>
<pos Sync="TRUE">1732731.224241 14193882.992509</pos>
</centerPt>
<axisDimension type="002">
<dimSize Sync="TRUE">155556</dimSize>
<dimResol>
<value Sync="TRUE" uom="ftUS">9.842500</value>
</dimResol>
</axisDimension>
<axisDimension type="001">
<dimSize Sync="TRUE">80372</dimSize>
<dimResol>
<value Sync="TRUE" uom="ftUS">9.842500</value>
</dimResol>
</axisDimension>
<ptInPixel>
<PixOrientCd Sync="TRUE" value="001"/>
</ptInPixel>
</Georect>
</spatRepInfo>
<contInfo>
<ImgDesc>
<contentTyp>
<ContentTypCd Sync="TRUE" value="001"/>
</contentTyp>
<covDim>
<Band>
<dimDescrp Sync="TRUE">Band_1</dimDescrp>
<maxVal Sync="TRUE">324.093262</maxVal>
<minVal Sync="TRUE">0.000977</minVal>
<bitsPerVal Sync="TRUE">32</bitsPerVal>
<valUnit>
<UOM type="length"/>
</valUnit>
</Band>
</covDim>
</ImgDesc>
</contInfo>
<mdDateSt Sync="TRUE">20190528</mdDateSt>
</metadata>
